BEGIN:VCALENDAR
VERSION:2.0
PRODID:-//liesLotte - Familienmagazin für Augsburg, Schwaben, Allgäu. - ECPv6.15.20//NONSGML v1.0//EN
CALSCALE:GREGORIAN
METHOD:PUBLISH
X-WR-CALNAME:liesLotte - Familienmagazin für Augsburg, Schwaben, Allgäu.
X-ORIGINAL-URL:https://termine.lieslotte.de
X-WR-CALDESC:Veranstaltungen für liesLotte - Familienmagazin für Augsburg, Schwaben, Allgäu.
REFRESH-INTERVAL;VALUE=DURATION:PT1H
X-Robots-Tag:noindex
X-PUBLISHED-TTL:PT1H
BEGIN:VTIMEZONE
TZID:Europe/Berlin
BEGIN:DAYLIGHT
TZOFFSETFROM:+0100
TZOFFSETTO:+0200
TZNAME:CEST
DTSTART:20250330T010000
END:DAYLIGHT
BEGIN:STANDARD
TZOFFSETFROM:+0200
TZOFFSETTO:+0100
TZNAME:CET
DTSTART:20251026T010000
END:STANDARD
BEGIN:DAYLIGHT
TZOFFSETFROM:+0100
TZOFFSETTO:+0200
TZNAME:CEST
DTSTART:20260329T010000
END:DAYLIGHT
BEGIN:STANDARD
TZOFFSETFROM:+0200
TZOFFSETTO:+0100
TZNAME:CET
DTSTART:20261025T010000
END:STANDARD
BEGIN:DAYLIGHT
TZOFFSETFROM:+0100
TZOFFSETTO:+0200
TZNAME:CEST
DTSTART:20270328T010000
END:DAYLIGHT
BEGIN:STANDARD
TZOFFSETFROM:+0200
TZOFFSETTO:+0100
TZNAME:CET
DTSTART:20271031T010000
END:STANDARD
END:VTIMEZONE
BEGIN:VEVENT
DTSTART;TZID=Europe/Berlin:20260607T093000
DTEND;TZID=Europe/Berlin:20260607T093000
DTSTAMP:20260423T152729
CREATED:20260126T111322Z
LAST-MODIFIED:20260220T100558Z
UID:10023056-1780824600-1780824600@termine.lieslotte.de
SUMMARY:Sonntagsfrühstück für Regenbogenfamilien
DESCRIPTION:Familien mit gleichgeschlechtlichen oder sich der LGBTIAQ+ Community zuordnenden Eltern treffen sich bei uns zu einem gemütlichen Frühstück im\nFamilienstützpunkt. \nAlle tragen eine Leckerei zum Frühstücksbuffet bei. \nUm eine verbindliche Anmeldung (begrenzte Teilnehmendenzahl) bis einschließlich 19.02.2026 wird gebeten unter Tel. 0821 / 650 947 90 oder unter\nfamilienstuetzpunkt@graceland-ev.de \n  \nFoto: AdobeStock / luckybusiness
URL:https://termine.lieslotte.de/event/sonntagsfruehstueck-fuer-regenbogenfamilien-6/2026-06-07/
LOCATION:KIDS Familienstützpunkt Nord/West\, Hooverstr. 1\, Augsburg\, 86156\, Germany
CATEGORIES:Pädagogik + Familie
ATTACH;FMTTYPE=image/jpeg:https://termine.lieslotte.de/wp-content/uploads/2024/02/Familie_queer_Vaeter_AdobeStock_325122499_-luckybusiness.jpg
END:VEVENT
END:VCALENDAR