BEGIN:VCALENDAR
VERSION:2.0
PRODID:-//liesLotte - Familienmagazin für Augsburg, Schwaben, Allgäu. - ECPv6.15.20//NONSGML v1.0//EN
CALSCALE:GREGORIAN
METHOD:PUBLISH
X-WR-CALNAME:liesLotte - Familienmagazin für Augsburg, Schwaben, Allgäu.
X-ORIGINAL-URL:https://termine.lieslotte.de
X-WR-CALDESC:Veranstaltungen für liesLotte - Familienmagazin für Augsburg, Schwaben, Allgäu.
REFRESH-INTERVAL;VALUE=DURATION:PT1H
X-Robots-Tag:noindex
X-PUBLISHED-TTL:PT1H
BEGIN:VTIMEZONE
TZID:Europe/Berlin
BEGIN:DAYLIGHT
TZOFFSETFROM:+0100
TZOFFSETTO:+0200
TZNAME:CEST
DTSTART:20250330T010000
END:DAYLIGHT
BEGIN:STANDARD
TZOFFSETFROM:+0200
TZOFFSETTO:+0100
TZNAME:CET
DTSTART:20251026T010000
END:STANDARD
BEGIN:DAYLIGHT
TZOFFSETFROM:+0100
TZOFFSETTO:+0200
TZNAME:CEST
DTSTART:20260329T010000
END:DAYLIGHT
BEGIN:STANDARD
TZOFFSETFROM:+0200
TZOFFSETTO:+0100
TZNAME:CET
DTSTART:20261025T010000
END:STANDARD
BEGIN:DAYLIGHT
TZOFFSETFROM:+0100
TZOFFSETTO:+0200
TZNAME:CEST
DTSTART:20270328T010000
END:DAYLIGHT
BEGIN:STANDARD
TZOFFSETFROM:+0200
TZOFFSETTO:+0100
TZNAME:CET
DTSTART:20271031T010000
END:STANDARD
END:VTIMEZONE
BEGIN:VEVENT
DTSTART;TZID=Europe/Berlin:20260507T093000
DTEND;TZID=Europe/Berlin:20260507T110000
DTSTAMP:20260424T131936
CREATED:20260323T174120Z
LAST-MODIFIED:20260414T132615Z
UID:10024086-1778146200-1778151600@termine.lieslotte.de
SUMMARY:Treff: Frauenfrühstück – für Ur-Augsburgerinnen und Neubürgerinnen
DESCRIPTION:Einmal im Monat öffnet das Stadtteilzentrum Haunstetten die Türen für ein besonderes Frühstück: Frauen aus Augsburg und aller Welt kommen hier zusammen\, tauschen sich aus und bringen eine kleine Köstlichkeit aus ihrer Heimat mit. Die Themen drehen sich rund um Gesundheit und Wohlbefinden – auf Augenhöhe\, offen und ohne Voranmeldung. \nKinder sind herzlich willkommen. Der Treff findet regelmäßig statt. \nKeine Anmeldung erforderlich. \nKontakt: info@szaugsburg-stadt.brk.de oder 0821-808770 \n  \nFoto: AdobeStock / terra.incognita
URL:https://termine.lieslotte.de/event/treff-frauenfruehstueck-fuer-ur-augsburgerinnen-und-neubuergerinnen/2026-05-07/
LOCATION:Stadtteilzentrum Haunstetten\, Johann-Strauß-Str. 11\, Augsburg\, Deutschland
ATTACH;FMTTYPE=image/jpeg:https://termine.lieslotte.de/wp-content/uploads/2025/01/AdobeStock_686295240_Von-terra.incognita.jpg
END:VEVENT
END:VCALENDAR