BEGIN:VCALENDAR
VERSION:2.0
PRODID:-//liesLotte - Familienmagazin für Augsburg, Schwaben, Allgäu. - ECPv6.15.20//NONSGML v1.0//EN
CALSCALE:GREGORIAN
METHOD:PUBLISH
X-ORIGINAL-URL:https://termine.lieslotte.de
X-WR-CALDESC:Veranstaltungen für liesLotte - Familienmagazin für Augsburg, Schwaben, Allgäu.
REFRESH-INTERVAL;VALUE=DURATION:PT1H
X-Robots-Tag:noindex
X-PUBLISHED-TTL:PT1H
BEGIN:VTIMEZONE
TZID:Europe/Berlin
BEGIN:DAYLIGHT
TZOFFSETFROM:+0100
TZOFFSETTO:+0200
TZNAME:CEST
DTSTART:20220327T010000
END:DAYLIGHT
BEGIN:STANDARD
TZOFFSETFROM:+0200
TZOFFSETTO:+0100
TZNAME:CET
DTSTART:20221030T010000
END:STANDARD
BEGIN:DAYLIGHT
TZOFFSETFROM:+0100
TZOFFSETTO:+0200
TZNAME:CEST
DTSTART:20230326T010000
END:DAYLIGHT
BEGIN:STANDARD
TZOFFSETFROM:+0200
TZOFFSETTO:+0100
TZNAME:CET
DTSTART:20231029T010000
END:STANDARD
BEGIN:DAYLIGHT
TZOFFSETFROM:+0100
TZOFFSETTO:+0200
TZNAME:CEST
DTSTART:20240331T010000
END:DAYLIGHT
BEGIN:STANDARD
TZOFFSETFROM:+0200
TZOFFSETTO:+0100
TZNAME:CET
DTSTART:20241027T010000
END:STANDARD
END:VTIMEZONE
BEGIN:VEVENT
DTSTART;VALUE=DATE:20231105
DTEND;VALUE=DATE:20231113
DTSTAMP:20260422T172002
CREATED:20231004T155312Z
LAST-MODIFIED:20231004T155312Z
UID:10003946-1699142400-1699833599@termine.lieslotte.de
SUMMARY:Dritte Jüdische Kulturwoche Augsburg Schwaben: „Bagel\, Bier und Berches“
DESCRIPTION:bis 12.11.: Jewish Chamber Orchestra Munich\, Veranstaltungen (Brot + Wein im Judentum\, jüdische Bierbraugeschichten)\, Klezmerworkshop\, J-Quiz (Wissensbingo zu jüdischer Religion + Kultur)\nversch. Orte \nFoto:
URL:https://termine.lieslotte.de/event/dritte-juedische-kulturwoche-augsburg-schwaben-bagel-bier-und-berches/
LOCATION:Augsburg
CATEGORIES:Feste
ATTACH;FMTTYPE=image/jpeg:https://termine.lieslotte.de/wp-content/uploads/2023/07/Button_Dummie_leerer_Termin2-1.jpg
GEO:48.368851;10.89772
END:VEVENT
BEGIN:VEVENT
DTSTART;TZID=Europe/Berlin:20231105T093000
DTEND;TZID=Europe/Berlin:20231105T093000
DTSTAMP:20260422T172002
CREATED:20231004T155651Z
LAST-MODIFIED:20231004T155651Z
UID:10003947-1699176600-1699176600@termine.lieslotte.de
SUMMARY:Klein-Kinder-Kino  FSK 0
DESCRIPTION:ohne Werbung\n2D \nRahmenprogramm\nab 4\,50 € \nFoto: AdobeStock_MM1
URL:https://termine.lieslotte.de/event/klein-kinder-kino-fsk-0/
LOCATION:Cineplex Aichach\, Rudolf-Diesel-Straße 6\, Aichach\, 86551\, DE
CATEGORIES:Film
ATTACH;FMTTYPE=image/jpeg:https://termine.lieslotte.de/wp-content/uploads/2022/11/Knirps_Kino_AdobeStock_32754217_MM1.jpg
GEO:48.44624;11.13767
X-APPLE-STRUCTURED-LOCATION;VALUE=URI;X-ADDRESS=Cineplex Aichach Rudolf-Diesel-Straße 6 Aichach 86551 DE;X-APPLE-RADIUS=500;X-TITLE=Rudolf-Diesel-Straße 6:geo:11.13767,48.44624
END:VEVENT
BEGIN:VEVENT
DTSTART;TZID=Europe/Berlin:20231105T093000
DTEND;TZID=Europe/Berlin:20231105T093000
DTSTAMP:20260422T172002
CREATED:20231004T155713Z
LAST-MODIFIED:20231004T155713Z
UID:10003948-1699176600-1699176600@termine.lieslotte.de
SUMMARY:Klein-Kinder-Kino  FSK 0
DESCRIPTION:ohne Werbung\n2D \nRahmenprogramm\nab 4\,50 € \nFoto: AdobeStock_MM1
URL:https://termine.lieslotte.de/event/klein-kinder-kino-fsk-0-2/
LOCATION:Cineplex Meitingen\, Donauwörther Str. 53\, Waltershofen\, Bayern\, 86405\, DE
CATEGORIES:Film
ATTACH;FMTTYPE=image/jpeg:https://termine.lieslotte.de/wp-content/uploads/2022/11/Knirps_Kino_AdobeStock_32754217_MM1.jpg
GEO:48.556903;10.850113
X-APPLE-STRUCTURED-LOCATION;VALUE=URI;X-ADDRESS=Cineplex Meitingen Donauwörther Str. 53 Waltershofen Bayern 86405 DE;X-APPLE-RADIUS=500;X-TITLE=Donauwörther Str. 53:geo:10.850113,48.556903
END:VEVENT
BEGIN:VEVENT
DTSTART;TZID=Europe/Berlin:20231105T093000
DTEND;TZID=Europe/Berlin:20231105T093000
DTSTAMP:20260422T172002
CREATED:20231004T155739Z
LAST-MODIFIED:20231004T155739Z
UID:10003949-1699176600-1699176600@termine.lieslotte.de
SUMMARY:Klein-Kinder-Kino  FSK 0
DESCRIPTION:ohne Werbung\n2D \nRahmenprogramm\nab 4\,50 € \nFoto: AdobeStock_MM1
URL:https://termine.lieslotte.de/event/klein-kinder-kino-fsk-0-3/
LOCATION:Cineplex Königsbrunn\, Bgm.-Wohlfarth-Str. 81\, Königsbrunn\, Bayern\, 86343\, DE
CATEGORIES:Film
ATTACH;FMTTYPE=image/jpeg:https://termine.lieslotte.de/wp-content/uploads/2022/11/Knirps_Kino_AdobeStock_32754217_MM1.jpg
GEO:48.267577;10.8874071
X-APPLE-STRUCTURED-LOCATION;VALUE=URI;X-ADDRESS=Cineplex Königsbrunn Bgm.-Wohlfarth-Str. 81 Königsbrunn Bayern 86343 DE;X-APPLE-RADIUS=500;X-TITLE=Bgm.-Wohlfarth-Str. 81:geo:10.8874071,48.267577
END:VEVENT
BEGIN:VEVENT
DTSTART;TZID=Europe/Berlin:20231105T100000
DTEND;TZID=Europe/Berlin:20231105T130000
DTSTAMP:20260422T172002
CREATED:20231004T160009Z
LAST-MODIFIED:20231004T160009Z
UID:10003950-1699178400-1699189200@termine.lieslotte.de
SUMMARY:Handgeschöpftes Recyclingpapier für Einsteiger*innen im tim  f. Erw.
DESCRIPTION:69 € (E)\nAnm.: über Website \nFoto: Eckhart-Matthaeus-1
URL:https://termine.lieslotte.de/event/handgeschoepftes-recyclingpapier-fuer-einsteigerinnen-im-tim-f-erw/
LOCATION:Textil- und Industriemuseum Augsburg\, Provinostr. 46\, Augsburg\, Deutschland
CATEGORIES:Kreativität,Kurs
ATTACH;FMTTYPE=image/jpeg:https://termine.lieslotte.de/wp-content/uploads/2022/11/tim-aussen_Foto-Eckhart-Matthaeus-1.jpg
END:VEVENT
BEGIN:VEVENT
DTSTART;TZID=Europe/Berlin:20231105T100000
DTEND;TZID=Europe/Berlin:20231105T180000
DTSTAMP:20260422T172002
CREATED:20231004T160134Z
LAST-MODIFIED:20231030T130119Z
UID:10003951-1699178400-1699207200@termine.lieslotte.de
SUMMARY:Erlebnistag im Bauernhaus-Museum Wolfegg: Wärme und Licht
DESCRIPTION:ohne Anm.\nInfos auf Website \nFoto: Bauernhausmuseum Wolfegg
URL:https://termine.lieslotte.de/event/erlebnistag-im-bauernhaus-museum-wolfegg-waerme-und-licht/
LOCATION:Bauernhausmuseum Wolfegg\, Vogter Str. 4\, Wolfegg\, Deutschland
CATEGORIES:Museum
ATTACH;FMTTYPE=image/jpeg:https://termine.lieslotte.de/wp-content/uploads/2023/10/Bauernhaus-im-Winter_BHM-Wolfegg.jpg
END:VEVENT
BEGIN:VEVENT
DTSTART;TZID=Europe/Berlin:20231105T100000
DTEND;TZID=Europe/Berlin:20231105T180000
DTSTAMP:20260422T172002
CREATED:20231004T160330Z
LAST-MODIFIED:20231004T160330Z
UID:10003952-1699178400-1699207200@termine.lieslotte.de
SUMMARY:Klezmerworkshop für Jugendliche  10 – 18 J.
DESCRIPTION:Anm.: feygele1@yahoo.com\n15 € (K) \nFoto: Ilya-Kotov
URL:https://termine.lieslotte.de/event/klezmerworkshop-fuer-jugendliche-10-18-j/
LOCATION:Villa Leopold\, Gögginger Str. 57\, Augsburg\, Deutschland
CATEGORIES:Kurs
ATTACH;FMTTYPE=image/jpeg:https://termine.lieslotte.de/wp-content/uploads/2023/09/Ensemble_Feygele_Juedisches-Museum_c-Ilya-Kotov.jpg
END:VEVENT
BEGIN:VEVENT
DTSTART;TZID=Europe/Berlin:20231105T130000
DTEND;TZID=Europe/Berlin:20231105T170000
DTSTAMP:20260422T172002
CREATED:20231004T162639Z
LAST-MODIFIED:20231004T162639Z
UID:10003963-1699189200-1699203600@termine.lieslotte.de
SUMMARY:Offene Werkstatt: Eingetaucht – Wachskerzen ziehen  f. Fam.
DESCRIPTION:Bastelaktion.\nohne Anm.\n5 € (E) \nFoto: AdobeStock_Magdalena-Kucova
URL:https://termine.lieslotte.de/event/offene-werkstatt-eingetaucht-wachskerzen-ziehen-f-fam/
LOCATION:Museum KulturLand Ries\, Klosterhof 3 + 8\, Maihingen\, Deutschland
CATEGORIES:Kurs,Museum
ATTACH;FMTTYPE=image/jpeg:https://termine.lieslotte.de/wp-content/uploads/2023/10/Weihnachtskerzen_Winter_AdobeStock_54029801_Magdalena-Kucova.jpg
END:VEVENT
BEGIN:VEVENT
DTSTART;TZID=Europe/Berlin:20231105T140000
DTEND;TZID=Europe/Berlin:20231105T150000
DTSTAMP:20260422T172002
CREATED:20231004T162904Z
LAST-MODIFIED:20231004T162904Z
UID:10003965-1699192800-1699196400@termine.lieslotte.de
SUMMARY:Unbekannte Welten. Spektakuläre Funde der Archäologen in Friedberg  f. Erw.
DESCRIPTION:Führung + Kaffee.\n9\,80 € (P)\nAnm.: 0821 / 6002-684 \nFoto: Museum im Wittelsbacher Schloss Friedberg_komp
URL:https://termine.lieslotte.de/event/unbekannte-welten-spektakulaere-funde-der-archaeologen-in-friedberg-f-erw/
LOCATION:Museum im Wittelsbacher Schloss\, Schlossstr. 21 a\, Friedberg\, Deutschland
CATEGORIES:Führung,Museum
ATTACH;FMTTYPE=image/jpeg:https://termine.lieslotte.de/wp-content/uploads/2023/07/Museum-im-Wittelsbacher-Schloss-Friedberg-komp.jpg
END:VEVENT
BEGIN:VEVENT
DTSTART;TZID=Europe/Berlin:20231105T140000
DTEND;TZID=Europe/Berlin:20231105T160000
DTSTAMP:20260422T172002
CREATED:20230918T082513Z
LAST-MODIFIED:20230918T082513Z
UID:10001571-1699192800-1699200000@termine.lieslotte.de
SUMMARY:Flohmarkt rund ums Kind: Fischach
DESCRIPTION:Anm. am 21.10.\, 14 – 17 Uhr: 0176 / 96 43 06 23\n10 € / Tisch (vorh.)\nVeranst.: Eltern-Kind-Gruppe der Kolpingfamilie Fischach \nFoto: liesLotte
URL:https://termine.lieslotte.de/event/flohmarkt-rund-ums-kind-fischach/
LOCATION:Staudenlandhalle Fischach\, Schmutterweg 4\, Fischach\, Deutschland
CATEGORIES:Flohmarkt
ATTACH;FMTTYPE=image/jpeg:https://termine.lieslotte.de/wp-content/uploads/2022/11/Flohmarkt_Spielzeug_IMG_3047floh_AnjaMurhan.jpg
END:VEVENT
BEGIN:VEVENT
DTSTART;TZID=Europe/Berlin:20231105T150000
DTEND;TZID=Europe/Berlin:20231105T150000
DTSTAMP:20260422T172002
CREATED:20231004T162342Z
LAST-MODIFIED:20231004T162342Z
UID:10003961-1699196400-1699196400@termine.lieslotte.de
SUMMARY:Dschungelbuch – das Musical  ab 4 J.
DESCRIPTION:ab 23 € (P)\nTickets über Website \nFoto: Theater liberi
URL:https://termine.lieslotte.de/event/dschungelbuch-das-musical-ab-4-j/
LOCATION:Sport- und Veranstaltungszentrum Landsberg\, Hungerbachweg 1\, Landsberg am Lech\, Deutschland
CATEGORIES:Theater
ATTACH;FMTTYPE=image/jpeg:https://termine.lieslotte.de/wp-content/uploads/2023/09/Dschungelbuch-das-Musical_Plakatmotiv_Quer.jpg
END:VEVENT
BEGIN:VEVENT
DTSTART;TZID=Europe/Berlin:20231105T150000
DTEND;TZID=Europe/Berlin:20231105T150000
DTSTAMP:20260422T172002
CREATED:20231004T162517Z
LAST-MODIFIED:20231004T162517Z
UID:10003962-1699196400-1699196400@termine.lieslotte.de
SUMMARY:„Feeling good”:  40 Jahre downtown dance studio
DESCRIPTION:Modern Jazz Dance.\n20 € (P)\, 18 € (erm.)\ndowntown-dance.de \nFoto: downtown dance studio
URL:https://termine.lieslotte.de/event/feeling-good-40-jahre-downtown-dance-studio/
LOCATION:Kulturhaus Abraxas\, Sommestraße 30\, Augsburg\, 86156\, DE
CATEGORIES:Show + Event
ATTACH;FMTTYPE=image/jpeg:https://termine.lieslotte.de/wp-content/uploads/2023/09/downtown-dance-studio.jpg
GEO:48.376961;10868
X-APPLE-STRUCTURED-LOCATION;VALUE=URI;X-ADDRESS=Kulturhaus Abraxas Sommestraße 30 Augsburg 86156 DE;X-APPLE-RADIUS=500;X-TITLE=Sommestraße 30:geo:10868,48.376961
END:VEVENT
BEGIN:VEVENT
DTSTART;TZID=Europe/Berlin:20231105T150000
DTEND;TZID=Europe/Berlin:20231105T153000
DTSTAMP:20260422T172002
CREATED:20231004T162123Z
LAST-MODIFIED:20231010T080410Z
UID:10003960-1699196400-1699198200@termine.lieslotte.de
SUMMARY:Viel(falt) vorlesen  ab 6 J.
DESCRIPTION:Das Junge Theater Augsburg liest vor.\nTickets: info@jt-augsburg.de\n5 € (K) \nFoto: AdobeStock_vlntn
URL:https://termine.lieslotte.de/event/vielfalt-vorlesen-ab-6-j/2023-11-05/
LOCATION:Foyer Kulturhaus Abraxas\, Sommestr. 30\, Augsburg\, Deutschland
CATEGORIES:Medien + Bücher
ATTACH;FMTTYPE=image/jpeg:https://termine.lieslotte.de/wp-content/uploads/2022/11/Lesen_Winter_AdobeStock_535713271_vlntn.jpg
END:VEVENT
BEGIN:VEVENT
DTSTART;TZID=Europe/Berlin:20231105T160000
DTEND;TZID=Europe/Berlin:20231105T160000
DTSTAMP:20260422T172002
CREATED:20230922T095431Z
LAST-MODIFIED:20231009T070911Z
UID:10001587-1699200000-1699200000@termine.lieslotte.de
SUMMARY:Märchentheater für Kinder: Die Zauberbuche Foristana  ab 5 J.
DESCRIPTION:4 € (K)\, 8\,50 € (E)\nKontakt: maerchenbuehne-donbosco@gmx.de \nFoto: AdobeStock_Hanoi-Photography
URL:https://termine.lieslotte.de/event/maerchentheater-fuer-kinder-die-zauberbuche-foristana-ab-5-j/2023-11-05/
LOCATION:Pfarrsaal Don Bosco\, Don-Bosco-Platz 3\, Augsburg\, Deutschland
CATEGORIES:Theater
ATTACH;FMTTYPE=image/jpeg:https://termine.lieslotte.de/wp-content/uploads/2022/11/Konzert_Theater_AdobeStock_276523793_Hanoi-Photography.jpg
END:VEVENT
BEGIN:VEVENT
DTSTART;TZID=Europe/Berlin:20231105T160000
DTEND;TZID=Europe/Berlin:20231105T160000
DTSTAMP:20260422T172002
CREATED:20231004T161817Z
LAST-MODIFIED:20231004T161817Z
UID:10003959-1699200000-1699200000@termine.lieslotte.de
SUMMARY:Kleiner großer Sonntag:  Mascha und der Bär  ab 3 J.
DESCRIPTION:Kindertheater.\n8 € (P) \nFoto: AdobeStock_Hanoi-Photography
URL:https://termine.lieslotte.de/event/kleiner-grosser-sonntag-mascha-und-der-baer-ab-3-j/
LOCATION:Theater Burgau\, Robert-Bosch-Str. 2\, Burgau\, Deutschland
CATEGORIES:Theater
ATTACH;FMTTYPE=image/jpeg:https://termine.lieslotte.de/wp-content/uploads/2022/11/Konzert_Theater_AdobeStock_276523793_Hanoi-Photography.jpg
END:VEVENT
BEGIN:VEVENT
DTSTART;TZID=Europe/Berlin:20231105T171500
DTEND;TZID=Europe/Berlin:20231105T171500
DTSTAMP:20260422T172002
CREATED:20231004T062456Z
LAST-MODIFIED:20231004T161436Z
UID:10003957-1699204500-1699204500@termine.lieslotte.de
SUMMARY:Rübengeister – Kürbislichter –  Märchen: Sagenhafte Familienführung
DESCRIPTION:Anm.: 09080 / 9686-0\n7\,50 € (K)\, 10\,50 € (E) \nFoto: AdobeStock_sushytska
URL:https://termine.lieslotte.de/event/ruebengeister-kuerbislichter-maerchen-sagenhafte-familienfuehrung-2/2023-11-05/
LOCATION:Burg Harburg\, Burgstr. 1\, Ronheim\, Bayern\, 86655\, DE
CATEGORIES:Führung,Museum
ATTACH;FMTTYPE=image/jpeg:https://termine.lieslotte.de/wp-content/uploads/2023/07/Button_Dummie_leerer_Termin2-1.jpg
GEO:48.784815;10.686433
X-APPLE-STRUCTURED-LOCATION;VALUE=URI;X-ADDRESS=Burg Harburg Burgstr. 1 Ronheim Bayern 86655 DE;X-APPLE-RADIUS=500;X-TITLE=Burgstr. 1:geo:10.686433,48.784815
END:VEVENT
END:VCALENDAR