BEGIN:VCALENDAR
VERSION:2.0
PRODID:-//liesLotte - Familienmagazin für Augsburg, Schwaben, Allgäu. - ECPv6.15.20//NONSGML v1.0//EN
CALSCALE:GREGORIAN
METHOD:PUBLISH
X-WR-CALNAME:liesLotte - Familienmagazin für Augsburg, Schwaben, Allgäu.
X-ORIGINAL-URL:https://termine.lieslotte.de
X-WR-CALDESC:Veranstaltungen für liesLotte - Familienmagazin für Augsburg, Schwaben, Allgäu.
REFRESH-INTERVAL;VALUE=DURATION:PT1H
X-Robots-Tag:noindex
X-PUBLISHED-TTL:PT1H
BEGIN:VTIMEZONE
TZID:Europe/Berlin
BEGIN:DAYLIGHT
TZOFFSETFROM:+0100
TZOFFSETTO:+0200
TZNAME:CEST
DTSTART:20220327T010000
END:DAYLIGHT
BEGIN:STANDARD
TZOFFSETFROM:+0200
TZOFFSETTO:+0100
TZNAME:CET
DTSTART:20221030T010000
END:STANDARD
BEGIN:DAYLIGHT
TZOFFSETFROM:+0100
TZOFFSETTO:+0200
TZNAME:CEST
DTSTART:20230326T010000
END:DAYLIGHT
BEGIN:STANDARD
TZOFFSETFROM:+0200
TZOFFSETTO:+0100
TZNAME:CET
DTSTART:20231029T010000
END:STANDARD
BEGIN:DAYLIGHT
TZOFFSETFROM:+0100
TZOFFSETTO:+0200
TZNAME:CEST
DTSTART:20240331T010000
END:DAYLIGHT
BEGIN:STANDARD
TZOFFSETFROM:+0200
TZOFFSETTO:+0100
TZNAME:CET
DTSTART:20241027T010000
END:STANDARD
END:VTIMEZONE
BEGIN:VEVENT
DTSTART;TZID=Europe/Berlin:20231121T100000
DTEND;TZID=Europe/Berlin:20231121T140000
DTSTAMP:20260422T112148
CREATED:20231010T064631Z
LAST-MODIFIED:20231010T064631Z
UID:10004097-1700560800-1700575200@termine.lieslotte.de
SUMMARY:Die neue Grottenau –  Tag der offenen Tür  ab 6 J.
DESCRIPTION:Angebote: Beraten\, Ordnen\, Musizieren.\nohne Anm.\nkostenlos \nFoto: c-Konstanze-Froelich
URL:https://termine.lieslotte.de/event/die-neue-grottenau-tag-der-offenen-tuer-ab-6-j/
LOCATION:Grottenau Augsburg\, Grottenau 1\, Augsburg\, Deutschland
CATEGORIES:Show + Event
ATTACH;FMTTYPE=image/jpeg:https://termine.lieslotte.de/wp-content/uploads/2023/09/Grottenau-c-Konstanze-Froelich.jpg
END:VEVENT
BEGIN:VEVENT
DTSTART;TZID=Europe/Berlin:20231121T163000
DTEND;TZID=Europe/Berlin:20231121T163000
DTSTAMP:20260422T112148
CREATED:20231010T065153Z
LAST-MODIFIED:20231010T065153Z
UID:10004099-1700584200-1700584200@termine.lieslotte.de
SUMMARY:Europäische Roboterwoche 2023: Robotervorlesung im Augsburger Planetarium  6 – 10 J.
DESCRIPTION:kostenlos \nInfos + Anm. über Website \nFoto: kuka_Roboter
URL:https://termine.lieslotte.de/event/europaeische-roboterwoche-2023-robotervorlesung-im-augsburger-planetarium-6-10-j/
LOCATION:S-Planetarium Augsburg\, Ludwigstr. 14\, Augsburg\, Deutschland
CATEGORIES:Show + Event
ATTACH;FMTTYPE=image/jpeg:https://termine.lieslotte.de/wp-content/uploads/2023/09/kuka2_Roboter.jpg
END:VEVENT
BEGIN:VEVENT
DTSTART;TZID=Europe/Berlin:20231121T163000
DTEND;TZID=Europe/Berlin:20231121T163000
DTSTAMP:20260422T112148
CREATED:20231010T083651Z
LAST-MODIFIED:20231010T083651Z
UID:10004154-1700584200-1700584200@termine.lieslotte.de
SUMMARY:Europäische Roboterwoche 2023: Robotervorlesung im Augsburger Planetarium  6 – 10 J.
DESCRIPTION:kostenlos \nInfos + Anm. über Website \nFoto: kuka_Roboter
URL:https://termine.lieslotte.de/event/europaeische-roboterwoche-2023-robotervorlesung-im-augsburger-planetarium-6-10-j-2/2023-11-21/
LOCATION:S-Planetarium Augsburg\, Ludwigstr. 14\, Augsburg\, Deutschland
CATEGORIES:Show + Event
ATTACH;FMTTYPE=image/jpeg:https://termine.lieslotte.de/wp-content/uploads/2023/09/kuka2_Roboter.jpg
END:VEVENT
BEGIN:VEVENT
DTSTART;TZID=Europe/Berlin:20231121T183000
DTEND;TZID=Europe/Berlin:20231121T183000
DTSTAMP:20260422T112148
CREATED:20231010T065333Z
LAST-MODIFIED:20231010T065333Z
UID:10004100-1700591400-1700591400@termine.lieslotte.de
SUMMARY:Europäische Roboterwoche 2023: Häuser aus der Fabrik – Wie Robotik und Automatisierung gesellschaftlichen Herausforderungen begegnen  f. Erw.
DESCRIPTION:Online-Vortrag.\nkostenlos \nInfos + Anm. über Website \nFoto: kuka Augsburg
URL:https://termine.lieslotte.de/event/europaeische-roboterwoche-2023-haeuser-aus-der-fabrik-wie-robotik-und-automatisierung-gesellschaftlichen-herausforderungen-begegnen-f-erw/
LOCATION:Online
CATEGORIES:Show + Event
ATTACH;FMTTYPE=image/jpeg:https://termine.lieslotte.de/wp-content/uploads/2023/09/KUKA_HQ_Augsburg_Hauptgebaeude.jpg
END:VEVENT
BEGIN:VEVENT
DTSTART;TZID=Europe/Berlin:20231121T190000
DTEND;TZID=Europe/Berlin:20231121T190000
DTSTAMP:20260422T112148
CREATED:20231010T064929Z
LAST-MODIFIED:20231010T064929Z
UID:10004098-1700593200-1700593200@termine.lieslotte.de
SUMMARY:Treff: Vielfalt ist Familienalltag
DESCRIPTION:Treff für Eltern queerer Kinder / Jugendl. / junger Erwachsener.\nAnm. bis 17.11.: familienstuetzpunkt@graceland-ev.de\nkostenlos
URL:https://termine.lieslotte.de/event/treff-vielfalt-ist-familienalltag/
LOCATION:KIDS Familienstützpunkt\, Luther-King-Str. 53\, Augsburg\, Deutschland
ATTACH;FMTTYPE=image/jpeg:https://termine.lieslotte.de/wp-content/uploads/2023/07/Button_Dummie_leerer_Termin2-1.jpg
END:VEVENT
END:VCALENDAR