BEGIN:VCALENDAR
VERSION:2.0
PRODID:-//liesLotte - Familienmagazin für Augsburg, Schwaben, Allgäu. - ECPv6.15.20//NONSGML v1.0//EN
CALSCALE:GREGORIAN
METHOD:PUBLISH
X-WR-CALNAME:liesLotte - Familienmagazin für Augsburg, Schwaben, Allgäu.
X-ORIGINAL-URL:https://termine.lieslotte.de
X-WR-CALDESC:Veranstaltungen für liesLotte - Familienmagazin für Augsburg, Schwaben, Allgäu.
REFRESH-INTERVAL;VALUE=DURATION:PT1H
X-Robots-Tag:noindex
X-PUBLISHED-TTL:PT1H
BEGIN:VTIMEZONE
TZID:Europe/Berlin
BEGIN:DAYLIGHT
TZOFFSETFROM:+0100
TZOFFSETTO:+0200
TZNAME:CEST
DTSTART:20220327T010000
END:DAYLIGHT
BEGIN:STANDARD
TZOFFSETFROM:+0200
TZOFFSETTO:+0100
TZNAME:CET
DTSTART:20221030T010000
END:STANDARD
BEGIN:DAYLIGHT
TZOFFSETFROM:+0100
TZOFFSETTO:+0200
TZNAME:CEST
DTSTART:20230326T010000
END:DAYLIGHT
BEGIN:STANDARD
TZOFFSETFROM:+0200
TZOFFSETTO:+0100
TZNAME:CET
DTSTART:20231029T010000
END:STANDARD
BEGIN:DAYLIGHT
TZOFFSETFROM:+0100
TZOFFSETTO:+0200
TZNAME:CEST
DTSTART:20240331T010000
END:DAYLIGHT
BEGIN:STANDARD
TZOFFSETFROM:+0200
TZOFFSETTO:+0100
TZNAME:CET
DTSTART:20241027T010000
END:STANDARD
END:VTIMEZONE
BEGIN:VEVENT
DTSTART;VALUE=DATE:20231122
DTEND;VALUE=DATE:20231123
DTSTAMP:20260425T145211
CREATED:20231122T105531Z
LAST-MODIFIED:20241126T112322Z
UID:10006336-1700611200-1700697599@termine.lieslotte.de
SUMMARY:Aktuelle Weihnachtsmärkte hier finden
DESCRIPTION:Findet ihr unter diesem Link:
URL:https://termine.lieslotte.de/event/aktuelle-weihnachtsmaerkte-hier-finden-0/2023-11-22/
ATTACH;FMTTYPE=image/jpeg:https://termine.lieslotte.de/wp-content/uploads/2023/10/buttons_web_Sidebar_Kalender_Weihnachtsmarkt.jpg
END:VEVENT
BEGIN:VEVENT
DTSTART;TZID=Europe/Berlin:20231122T090000
DTEND;TZID=Europe/Berlin:20231122T130000
DTSTAMP:20260425T145211
CREATED:20231010T083546Z
LAST-MODIFIED:20231010T083546Z
UID:10004153-1700643600-1700658000@termine.lieslotte.de
SUMMARY:Europäische Roboterwoche 2023: Roboter-Erlebnistag für technikbegeisterte Jugendliche  ab 13 J.
DESCRIPTION:kostenlos\nInfos + Anm. über Website \nFoto: Kuka Augsburg
URL:https://termine.lieslotte.de/event/europaeische-roboterwoche-2023-roboter-erlebnistag-fuer-technikbegeisterte-jugendliche-ab-13-j/
LOCATION:Kuka Hauptsitz Augsburg\, Zugspitzstr. 140\, Augsburg\, Deutschland
CATEGORIES:Show + Event
ATTACH;FMTTYPE=image/jpeg:https://termine.lieslotte.de/wp-content/uploads/2023/09/KUKA_HQ_Augsburg_Hauptgebaeude.jpg
END:VEVENT
BEGIN:VEVENT
DTSTART;TZID=Europe/Berlin:20231122T093000
DTEND;TZID=Europe/Berlin:20231122T103000
DTSTAMP:20260425T145211
CREATED:20231010T084022Z
LAST-MODIFIED:20231010T084022Z
UID:10004157-1700645400-1700649000@termine.lieslotte.de
SUMMARY:Märchenzelt für Kita / Hort: Mitmachmärchen  ab 3 J.
DESCRIPTION:8 € (P) \nFoto: Märchenzelt
URL:https://termine.lieslotte.de/event/maerchenzelt-fuer-kita-hort-mitmachmaerchen-ab-3-j/
LOCATION:Das Märchenzelt\, Sommestraße 30\, Augsburg\, 86156\, DE
CATEGORIES:Show + Event
ATTACH;FMTTYPE=image/jpeg:https://termine.lieslotte.de/wp-content/uploads/2022/11/Maerchenzelt_Punsch_Feuer_Matthias-Fischer_DSC0825.jpg
GEO:48.377319;10.8679283
X-APPLE-STRUCTURED-LOCATION;VALUE=URI;X-ADDRESS=Das Märchenzelt Sommestraße 30 Augsburg 86156 DE;X-APPLE-RADIUS=500;X-TITLE=Sommestraße 30:geo:10.8679283,48.377319
END:VEVENT
BEGIN:VEVENT
DTSTART;TZID=Europe/Berlin:20231122T093000
DTEND;TZID=Europe/Berlin:20231122T123000
DTSTAMP:20260425T145211
CREATED:20231010T083848Z
LAST-MODIFIED:20231010T083848Z
UID:10004156-1700645400-1700656200@termine.lieslotte.de
SUMMARY:Nähkurs: Wir nähen einen coolen Turnbeutel aus Softshell  ab 8 J.
DESCRIPTION:Kurs-Nr.: 800-16\n33 € (K)\nAnm. über Website \nFoto: AdobeStock_M-Production
URL:https://termine.lieslotte.de/event/naehkurs-wir-naehen-einen-coolen-turnbeutel-aus-softshell-ab-8-j/
LOCATION:Geschäftsstelle vhs Kaufering\, Albert-Schweitzer-Str. 4 a\, Kaufering\, Deutschland
CATEGORIES:Kreativität,Kurs
ATTACH;FMTTYPE=image/jpeg:https://termine.lieslotte.de/wp-content/uploads/2023/08/Naehkurs_AdobeStock_170236978_M-Production.jpg
END:VEVENT
BEGIN:VEVENT
DTSTART;TZID=Europe/Berlin:20231122T100000
DTEND;TZID=Europe/Berlin:20231122T130000
DTSTAMP:20260425T145211
CREATED:20231010T084156Z
LAST-MODIFIED:20231010T084156Z
UID:10004158-1700647200-1700658000@termine.lieslotte.de
SUMMARY:Kochkurs: Backen für den Nikolaustag  ab 8 J.
DESCRIPTION:Kochkurs: Nikolausstiefel backen.\nKurs-Nr.: 800-14\n22 € (K)\nAnm. über Website \nFoto: AdobeStock_jul14ka
URL:https://termine.lieslotte.de/event/kochkurs-backen-fuer-den-nikolaustag-ab-8-j/
LOCATION:Schulküche Mittelschule Kaufering\, Franz-Senn-Weg\, Kaufering\, Deutschland
CATEGORIES:Kurs
ATTACH;FMTTYPE=image/jpeg:https://termine.lieslotte.de/wp-content/uploads/2022/11/Weihnachtsbaeckerei_AdobeStock_304185503_jul14ka.jpg
END:VEVENT
BEGIN:VEVENT
DTSTART;TZID=Europe/Berlin:20231122T100000
DTEND;TZID=Europe/Berlin:20231122T180000
DTSTAMP:20260425T145211
CREATED:20231010T084358Z
LAST-MODIFIED:20231010T084358Z
UID:10004159-1700647200-1700676000@termine.lieslotte.de
SUMMARY:Lichterhäuschenbasteln  f. Fam.
DESCRIPTION:Anm.: kinderbibliothek@ijb.de\n5 € (K) \nFoto: AdobeStock_Stephanie-Bandmann
URL:https://termine.lieslotte.de/event/lichterhaeuschenbasteln-f-fam/
LOCATION:Internationale Jugendbibliothek\, Seldweg 15\, München\, Bayern\, 81247\, DE
CATEGORIES:Kreativität
ATTACH;FMTTYPE=image/jpeg:https://termine.lieslotte.de/wp-content/uploads/2023/10/Kerzenlicht_Winter_AdobeStock_921374_Stephanie-Bandmann.jpg
GEO:48.163087;11.456855
X-APPLE-STRUCTURED-LOCATION;VALUE=URI;X-ADDRESS=Internationale Jugendbibliothek Seldweg 15 München Bayern 81247 DE;X-APPLE-RADIUS=500;X-TITLE=Seldweg 15:geo:11.456855,48.163087
END:VEVENT
BEGIN:VEVENT
DTSTART;TZID=Europe/Berlin:20231122T130000
DTEND;TZID=Europe/Berlin:20231122T170000
DTSTAMP:20260425T145211
CREATED:20231010T065820Z
LAST-MODIFIED:20231010T075149Z
UID:10004129-1700658000-1700672400@termine.lieslotte.de
SUMMARY:Alles Familie! Familiendarstellungen in aktuellen Bilderbüchern der deutschen Jugendbibliothek
DESCRIPTION:Ausstellung zum Wandel der Familie. \nFoto: Katalogcover_AllesFam_Ausstellung_AWO
URL:https://termine.lieslotte.de/event/alles-familie-familiendarstellungen-in-aktuellen-bilderbuechern-der-deutschen-jugendbibliothek/2023-11-22/
LOCATION:Familienberatungsstelle AWO\, Frölichstr. 18\, Augsburg\, Deutschland
CATEGORIES:Medien + Bücher
ATTACH;FMTTYPE=image/jpeg:https://termine.lieslotte.de/wp-content/uploads/2023/09/Katalogcover_AllesFam_Ausstellung_AWO.jpg
END:VEVENT
BEGIN:VEVENT
DTSTART;TZID=Europe/Berlin:20231122T163000
DTEND;TZID=Europe/Berlin:20231122T163000
DTSTAMP:20260425T145211
CREATED:20231010T083651Z
LAST-MODIFIED:20231010T083651Z
UID:10004155-1700670600-1700670600@termine.lieslotte.de
SUMMARY:Europäische Roboterwoche 2023: Robotervorlesung im Augsburger Planetarium  6 – 10 J.
DESCRIPTION:kostenlos \nInfos + Anm. über Website \nFoto: kuka_Roboter
URL:https://termine.lieslotte.de/event/europaeische-roboterwoche-2023-robotervorlesung-im-augsburger-planetarium-6-10-j-2/2023-11-22/
LOCATION:S-Planetarium Augsburg\, Ludwigstr. 14\, Augsburg\, Deutschland
CATEGORIES:Show + Event
ATTACH;FMTTYPE=image/jpeg:https://termine.lieslotte.de/wp-content/uploads/2023/09/kuka2_Roboter.jpg
END:VEVENT
BEGIN:VEVENT
DTSTART;TZID=Europe/Berlin:20231122T180000
DTEND;TZID=Europe/Berlin:20231122T180000
DTSTAMP:20260425T145211
CREATED:20231103T075121Z
LAST-MODIFIED:20231103T075121Z
UID:10004258-1700676000-1700676000@termine.lieslotte.de
SUMMARY:Adventskranzbinden für Erwachsene / Jugendliche
DESCRIPTION:Aus Naturmaterialien werden kreative Adventsdekorationen wie Kränze und pfiffige gestecke gebunden.\nMitbringen: wenn vorhanden eine gartenschere\, Schürze\, evtl. Mehrweghandschuhe. \n12 € (P)\nAnm. bis 17.11.: umweltzentrum@markt-diedorf.de \nFoto: Anna Röder
URL:https://termine.lieslotte.de/event/adventskranzbinden-fuer-erwachsene-jugendliche/
LOCATION:Umweltzentrum Schmuttertal\, Augsburger Str. 24\, Diedorf\, 86420
CATEGORIES:Kreativität,Kurs
ATTACH;FMTTYPE=image/jpeg:https://termine.lieslotte.de/wp-content/uploads/2023/07/Button_Dummie_leerer_Termin2-1.jpg
END:VEVENT
BEGIN:VEVENT
DTSTART;TZID=Europe/Berlin:20231122T183000
DTEND;TZID=Europe/Berlin:20231122T213000
DTSTAMP:20260425T145211
CREATED:20231010T084742Z
LAST-MODIFIED:20231010T084742Z
UID:10004161-1700677800-1700688600@termine.lieslotte.de
SUMMARY:Meine Nähmaschine –  das unbekannte Ding  f. Erw.
DESCRIPTION:Kurs: eigene Nähmaschine kennen lernen.\nAnm. bis 14.11.: haus-der-familie@awo-schwaben.de\n39 € (E) \nFoto: AdobeStock_M-Production
URL:https://termine.lieslotte.de/event/meine-naehmaschine-das-unbekannte-ding-f-erw/
LOCATION:Haus der Familie Stadtbergen\, Goethestraße 12\, Stadtbergen\, 86391
CATEGORIES:Kreativität
ATTACH;FMTTYPE=image/jpeg:https://termine.lieslotte.de/wp-content/uploads/2023/08/Naehkurs_AdobeStock_170236966_M-Production.jpg
GEO:48.36564;10.85086
X-APPLE-STRUCTURED-LOCATION;VALUE=URI;X-ADDRESS=Haus der Familie Stadtbergen Goethestraße 12 Stadtbergen 86391;X-APPLE-RADIUS=500;X-TITLE=Goethestraße 12:geo:10.85086,48.36564
END:VEVENT
BEGIN:VEVENT
DTSTART;TZID=Europe/Berlin:20231122T200000
DTEND;TZID=Europe/Berlin:20231122T213000
DTSTAMP:20260425T145211
CREATED:20231110T084851Z
LAST-MODIFIED:20231110T084851Z
UID:10004261-1700683200-1700688600@termine.lieslotte.de
SUMMARY:Online-Vortrag: Mehr Ich in all dem Wir - Wie bekommen wir das als Mütter hin?  f. Erw.
DESCRIPTION:Weil wir es uns selbst wert sein dürfen!  Tipps und Anekdoten zur konkreten Unterstützung:\nWarum werden Frauen bereits im Kreißsaal übersehen\, indem sie Rässelchen und Bodies zur Geburt geschenkt bekommen – und viel zu selten etwas für sich selbst?\nWarum schaffen es Frauen in der Folge dann auch nur schwer\, sich wie selbstverständlich auch mal Zeiten nur für sich zu nehmen?\nHängt das möglicherweise sogar zusammen? \nLisa Harmann\, 41\, und Katharina Nachtsheim\, 42 treiben diese Fragen seit jeher an.\nZusammen sind sie die Macherinnen hinter einem der größten Familienblogs Deutschlands: Stadt Land Mama. Sie haben drei WOW MOM-Bücher für Mütter geschrieben\, die zum Teil auf der Bestseller-Liste landeten. Darin nehmen sie die Frau im Familienkonstrukt in den Fokus – in der Schwangerschaft\, im ersten Jahr mit Kind und später\, wenn die Kinder größer werden. Mit insgesamt sieben Kindern zwischen 0 und 17 Jahren\, darunter Jungen und Mädchen\, Zwillingen und Einlingen wissen die beiden\, wovon sie schreiben. Und können mit ganz konkreten Fallbeispielen und ehrlichen Anekdoten Unterstützung bieten. \nWeil wir es uns selbst wert sein dürfen! \nAnm.: keb.ldkr-augsburg@bistum-augsburg.de \nFoto: AdobeStock_mophoto \n  \n 
URL:https://termine.lieslotte.de/event/online-vortrag-mehr-ich-in-all-dem-wir-wie-bekommen-wir-das-als-muetter-hin-f-erw/
LOCATION:Online
CATEGORIES:Pädagogik + Familie
ATTACH;FMTTYPE=image/jpeg:https://termine.lieslotte.de/wp-content/uploads/2023/07/Button_Dummie_leerer_Termin2-1.jpg
END:VEVENT
END:VCALENDAR