BEGIN:VCALENDAR
VERSION:2.0
PRODID:-//liesLotte - Familienmagazin für Augsburg, Schwaben, Allgäu. - ECPv6.15.20//NONSGML v1.0//EN
CALSCALE:GREGORIAN
METHOD:PUBLISH
X-ORIGINAL-URL:https://termine.lieslotte.de
X-WR-CALDESC:Veranstaltungen für liesLotte - Familienmagazin für Augsburg, Schwaben, Allgäu.
REFRESH-INTERVAL;VALUE=DURATION:PT1H
X-Robots-Tag:noindex
X-PUBLISHED-TTL:PT1H
BEGIN:VTIMEZONE
TZID:Europe/Berlin
BEGIN:DAYLIGHT
TZOFFSETFROM:+0100
TZOFFSETTO:+0200
TZNAME:CEST
DTSTART:20240331T010000
END:DAYLIGHT
BEGIN:STANDARD
TZOFFSETFROM:+0200
TZOFFSETTO:+0100
TZNAME:CET
DTSTART:20241027T010000
END:STANDARD
BEGIN:DAYLIGHT
TZOFFSETFROM:+0100
TZOFFSETTO:+0200
TZNAME:CEST
DTSTART:20250330T010000
END:DAYLIGHT
BEGIN:STANDARD
TZOFFSETFROM:+0200
TZOFFSETTO:+0100
TZNAME:CET
DTSTART:20251026T010000
END:STANDARD
BEGIN:DAYLIGHT
TZOFFSETFROM:+0100
TZOFFSETTO:+0200
TZNAME:CEST
DTSTART:20260329T010000
END:DAYLIGHT
BEGIN:STANDARD
TZOFFSETFROM:+0200
TZOFFSETTO:+0100
TZNAME:CET
DTSTART:20261025T010000
END:STANDARD
END:VTIMEZONE
BEGIN:VEVENT
DTSTART;VALUE=DATE:20250705
DTEND;VALUE=DATE:20250726
DTSTAMP:20260422T152757
CREATED:20250524T081943Z
LAST-MODIFIED:20250524T082111Z
UID:10009562-1751673600-1753487999@termine.lieslotte.de
SUMMARY:Stadtradeln - Radeln für ein gutes Klima!
DESCRIPTION:Alle\, die in der Stadt Augsburg wohnen\, arbeiten\, einem Verein angehören oder eine (Hoch-)Schule besuchen\, können beim STADTRADELN mitmachen. \nStadtradeln: bis 25.07.\nAnm.: www.stadtradeln.de/augsburg \n  \nFoto: Adobe Stock\, Christian Müller
URL:https://termine.lieslotte.de/event/stadtradeln-und-radlwoche-2/
CATEGORIES:Show + Event
ATTACH;FMTTYPE=image/jpeg:https://termine.lieslotte.de/wp-content/uploads/2024/05/Fahrrad_Strasse_Verkehr_AdobeStock_521307681_Christian-Mueller.jpg
END:VEVENT
BEGIN:VEVENT
DTSTART;VALUE=DATE:20250712
DTEND;VALUE=DATE:20250721
DTSTAMP:20260422T152757
CREATED:20250524T110430Z
LAST-MODIFIED:20250524T110430Z
UID:10016258-1752278400-1753055999@termine.lieslotte.de
SUMMARY:7. Augsburger Radlwoche
DESCRIPTION:Bereits zum siebten Mal richtet die Stadt Augsburg in diesem Jahr die Radlwoche aus.\nDabei dreht sich wieder alles um das Thema Fahrradfahren. Gemeinsam mit der lokalen Radszene wird ein umfassendes Programm mit mehr als 25 Aktionen angeboten. Highlights sind zum Beispiel die Sternfahrt der Augsburger Schulen\, die beliebte Schnitzeljagd auf dem Rad sowie Workshops zu Mobilitätsthemen. \nAber auch der Radlcheck\, Feierabendtouren\, Geschicklichkeitsparcours und vieles mehr für alle Altersgruppen stehen auf dem Programm. \nMitmach-Programm zum Stadt-Radverkehr www.augsburg.de/radlwoche
URL:https://termine.lieslotte.de/event/7-augsburger-radlwoche/
CATEGORIES:Gesundheit,Show + Event
ATTACH;FMTTYPE=image/jpeg:https://termine.lieslotte.de/wp-content/uploads/2025/05/Radlwoche2025_Anzeige_A4_LiesLotte_mit-Logos_PRINT.jpg
END:VEVENT
BEGIN:VEVENT
DTSTART;VALUE=DATE:20250717
DTEND;VALUE=DATE:20250718
DTSTAMP:20260422T152757
CREATED:20250101T174252Z
LAST-MODIFIED:20250205T143539Z
UID:10002729-1752710400-1752796799@termine.lieslotte.de
SUMMARY:Alle aktuellen Ausstellungen hier finden
DESCRIPTION:Viele schöne Ausstellungen in Museen und Kulturstätten in Augsburg und der Region:\nKlickt euch >> HIER << rein.
URL:https://termine.lieslotte.de/event/alle-aktuellen-ausstellungen-hier-finden-2/2025-07-17/
ATTACH;FMTTYPE=image/jpeg:https://termine.lieslotte.de/wp-content/uploads/2023/10/buttons_web_Sidebar_Kalender_Ausstellung.jpg
END:VEVENT
BEGIN:VEVENT
DTSTART;TZID=Europe/Berlin:20250717T093000
DTEND;TZID=Europe/Berlin:20250717T143000
DTSTAMP:20260422T152757
CREATED:20250524T194607Z
LAST-MODIFIED:20250524T194921Z
UID:10016290-1752744600-1752762600@termine.lieslotte.de
SUMMARY:Workshop: Schmuckwerkstatt
DESCRIPTION:In dieser Werkstatt lassen wir die Kreativität fließen und gestalten trendiges Armschmuck für uns selbst oder einen lieben Menschen. Wir biegen\, stanzen\, flechten\, schneiden und designen aus verschiedenen Materialien\, wie Perlen\, Draht\, Paracord oder auch Fahrradschläuchen\, einen einzigartigen Schmuck. \nMaterialkosten: 3 € zzg. Eintritt; ab der 3. Klasse \n  \nFoto: AdobeStock / Arkady-Chubykin
URL:https://termine.lieslotte.de/event/workshop-schmuckwerkstatt/2025-07-17/
LOCATION:Erfahrungsfeld zur Entfaltung der Sinne\, Wöhrder Wiese\, Nürnberg\, 90489
CATEGORIES:Kreativität,Kurs
ATTACH;FMTTYPE=image/jpeg:https://termine.lieslotte.de/wp-content/uploads/2025/02/AdobeStock_470383518_von-Arkady-Chubykin.jpg
END:VEVENT
BEGIN:VEVENT
DTSTART;TZID=Europe/Berlin:20250717T100000
DTEND;TZID=Europe/Berlin:20250717T120000
DTSTAMP:20260422T152757
CREATED:20250526T072140Z
LAST-MODIFIED:20250526T072140Z
UID:10016319-1752746400-1752753600@termine.lieslotte.de
SUMMARY:Wusstest du schon ...? Reisen mit Kindern – Tipps und Tricks
DESCRIPTION:In gemütlicher Atmosphäre mit unserer Referentin über ein Thema rund um Familie sprechen. Juli Thema: “Reisen mit Kindern – Tipps und Tricks”. \nAnm.: fsp-pfersee@awo-augsburg.de \nFoto: 210673643_von-Maria-Sbytova
URL:https://termine.lieslotte.de/event/wusstest-du-schon-reisen-mit-kindern-tipps-und-tricks/
LOCATION:Bürgerhaus Pfersee\, Stadtberger Str. 17\, Augsburg\, 86157\, Germany
CATEGORIES:Pädagogik + Familie,Vortrag
ATTACH;FMTTYPE=image/jpeg:https://termine.lieslotte.de/wp-content/uploads/2023/07/Button_Dummie_leerer_Termin2-1.jpg
END:VEVENT
BEGIN:VEVENT
DTSTART;TZID=Europe/Berlin:20250717T103000
DTEND;TZID=Europe/Berlin:20250717T120000
DTSTAMP:20260422T152757
CREATED:20250526T072702Z
LAST-MODIFIED:20250710T171054Z
UID:10016320-1752748200-1752753600@termine.lieslotte.de
SUMMARY:Workshop: „Babyschlaf“
DESCRIPTION:Ihre Fragen rund um das Thema Babyschlaf sind der Index für diesen Workshop. Oft sind es ähnliche Sorgen und Nöte\, die Eltern kleiner Kinder zum Thema Babyschlaf beschäftigen: \n\nWann ist es Zeit nur noch 1x am Tag zu schlafen?\nWieviel Schlaf braucht mein Baby überhaupt?\nWir brauchen dringend ein gutes Einschlafritual\, was ist dabei wichtig?\nWarum wacht mein Baby nachts so oft auf und wie kann ich es dabei unterstützen durchzuschlafen?\n\nAn diesem Vormittag haben Sie die Gelegenheit Ihre Fragen einer Babyschlaf-Expertin zu stellen! Es gibt einige theoretische Grundlagen zum Thema Babyschlaf und die Teilnehmenden beschäftigen sich ganz praxisnah mit Ihren Fragen aus dem Alltag. \nAnm.: biancakunz@hotmail.com\n15 € (E)\, 25 € (Paar) \nFoto: AdobeStock_-Mongkolchon-
URL:https://termine.lieslotte.de/event/interaktiver-workshop-zum-thema-babyschlaf/2025-07-17/
LOCATION:KJF Berufsfachschule für Pflege\, Kapellenstr. 17\, Augsburg\, Germany
CATEGORIES:Pädagogik + Familie,Vortrag
ATTACH;FMTTYPE=image/jpeg:https://termine.lieslotte.de/wp-content/uploads/2023/07/Button_Dummie_leerer_Termin2-1.jpg
END:VEVENT
BEGIN:VEVENT
DTSTART;TZID=Europe/Berlin:20250717T153000
DTEND;TZID=Europe/Berlin:20250717T163000
DTSTAMP:20260422T152757
CREATED:20250526T072950Z
LAST-MODIFIED:20250526T073040Z
UID:10016322-1752766200-1752769800@termine.lieslotte.de
SUMMARY:Bücherriesen: "Mister O'Lui sucht das Glück" | 4 - 7 J. (ohne Eltern)
DESCRIPTION:Begleite Mister O´Lui auf seiner Suche nach dem Glück: Ein warmherziges Bilderbuch über Freundschaft und die wirklich wertvollen Dinge im Leben. \n  \nAnmeldung über Website.\nDie Teilnehmendenzahl ist auf 15 Kinder begrenzt \n  \nFoto: Adobe Stock_Romolo-Tavani_ \n  \n 
URL:https://termine.lieslotte.de/event/buecherriesen-mister-olui-sucht-das-glueck-4-7-j-ohne-eltern/
LOCATION:Stadtbücherei Augsburg\, Ernst-Reuter-Platz 1\, Augsburg\, Deutschland
CATEGORIES:Medien + Bücher
ATTACH;FMTTYPE=image/jpeg:https://termine.lieslotte.de/wp-content/uploads/2023/07/Lesen_Buch_AdobeStock_520981843_Romolo-Tavani_660x528.jpg
END:VEVENT
BEGIN:VEVENT
DTSTART;TZID=Europe/Berlin:20250717T160000
DTEND;TZID=Europe/Berlin:20250717T173000
DTSTAMP:20260422T152757
CREATED:20250701T151914Z
LAST-MODIFIED:20250701T151914Z
UID:10016572-1752768000-1752773400@termine.lieslotte.de
SUMMARY:Augsburger Mädchenkantorei - Vorsingen
DESCRIPTION:Neben den Augsburger Domsingknaben und dem Domchor Augsburg wird es eine eigenständige Augsburger Mädchenkantorei geben. \nDie Mädchenkantorei soll ein wesentlicher Bestandteil der kirchenmusikalischen Tradition am Hohen Dom zu Augsburg werden und Mädchen sowie jungen Frauen künftig eine hochwertige musikalische Ausbildung einschließlich der Vermittlung umfassenden liturgischen Wissens bieten. \nMädchen im Alter von zwei bis sechs Jahren können sich ab sofort für die Musikalische Früherziehung ohne Vorsingen anmelden. \nVorsingen für interessierte Mädchen im Alter von sieben und acht Jahren: \n\nDatum: Do.\, 10.07.\, Do.\, 17.07.\, Do.\, 24.07.\, und Di.\, 29.07.25\nUhrzeit: jeweils von 16:00 Uhr bis 17:30 Uhr\nOrt: Haus St. Ambrosius (Hoher Weg 30\, 86152 Augsburg)\n\nVoranmeldung notwendig! \nPer Mail: info@augsburger-domsingknaben.de oder\ntelefonisch unter 0821 51 00 88. \n  \nFoto: Augsburger Domsingknaben / Susanne Merk
URL:https://termine.lieslotte.de/event/augsburger-maedchenkantorei-vorsingen/2025-07-17/
LOCATION:Haus St. Ambrosius\, Hoher Weg 30\,\, Augsburg\, 86152
ATTACH;FMTTYPE=image/jpeg:https://termine.lieslotte.de/wp-content/uploads/2025/07/SUM9853_bearb-c-Augsburger-Domsingknaben_Susanne-Merk.jpg
END:VEVENT
BEGIN:VEVENT
DTSTART;TZID=Europe/Berlin:20250717T170000
DTEND;TZID=Europe/Berlin:20250717T170000
DTSTAMP:20260422T152757
CREATED:20250328T110735Z
LAST-MODIFIED:20250328T110735Z
UID:10014725-1752771600-1752771600@termine.lieslotte.de
SUMMARY:Slam-Workshop: »write\, read out and slam«
DESCRIPTION:Einmal im Monat ist der Grand Slam im Staatstheater Augsburg in der brechtbühne zu Gast. Das Wort ‘Slam’ bezieht sich auf die Kunstform des Vortrags eigener Texte im Wettbewerb\, von rasant bis bedächtig\, von Poesie über Rap bis Prosa. \nDu würdest auch gern einmal textlich zuschlagen\, slammen’\, weißt aber nicht\, wie oder gar ob? Du hast schon Texte geschrieben\, traust dich aber noch nicht auf die Bühne damit? Wir arbeiten gern mit dir\, damit du den Mut findest\, dich auf einer Slambühne zu beweisen. Wir bieten eine kleine Schreibwerkstatt an und besprechen gemeinsam im Inspirations- und Meinungsaustausch eure Texte. Auch eure mitgebrachten Texte gehen wir gerne mit euch durch. Mit Atem- und Sprechtechnikübungen arbeiten wir an eurer Vortragshaltung. \nGegenseitiges Feedback und Inspiration verhilft euch mutig zu sein und den nächsten Schritt auf die Bühne des Slammens zu gehen. \nAm Ende des Abends winkt mindestens ein Startplatz für den nächsten Grand Slam in der brechtbühne! \nWir freuen uns auf euch!\nWir sind: Meike Harms\, Bayerische Meisterin und Münchner Stadtmeisterin im Poetry Slam\, außerdem Autorin\, Referentin\,Dozentin\, Performance Poetin\, Sprach- und Poesiepädagogin. Und Nicoletta Kindermann\, Theatervermittlerin am Staatstheater Augsburg. \nAnmeldung unter: theaterpaedagogik@staatstheater-augsburg.de \n  \nFoto: Altes Rock Café
URL:https://termine.lieslotte.de/event/slam-workshop-write-read-out-and-slam-4/
LOCATION:Altes Rock Café\, Kriegshaberstr. 4\, Augsburg\, Bayern\, 86156\, DE
CATEGORIES:Show + Event
ATTACH;FMTTYPE=image/jpeg:https://termine.lieslotte.de/wp-content/uploads/2025/03/staatstheater_altes_rock_cafe_1.jpg
GEO:48.379439;10.849969
X-APPLE-STRUCTURED-LOCATION;VALUE=URI;X-ADDRESS=Altes Rock Café Kriegshaberstr. 4 Augsburg Bayern 86156 DE;X-APPLE-RADIUS=500;X-TITLE=Kriegshaberstr. 4:geo:10.849969,48.379439
END:VEVENT
BEGIN:VEVENT
DTSTART;TZID=Europe/Berlin:20250717T180000
DTEND;TZID=Europe/Berlin:20250717T180000
DTSTAMP:20260422T152757
CREATED:20250710T164241Z
LAST-MODIFIED:20250710T164317Z
UID:10016727-1752775200-1752775200@termine.lieslotte.de
SUMMARY:Monatlicher Online-Still-Info-Abend
DESCRIPTION:Stillen ein guter Start ins Leben \nFür eine Mutter ist es hilfreich\, sich vor der Geburt aktiv mit dem Thema Stillen oder anderen Ernährungsformen zu beschäftigen. Grundlegende Informationen zum Stillen in der Schwangerschaft vereinfachen den Stillstart und verlängern die Stilldauer. \nDer Live-Video-Vortrag dauert etwa zwei Stunden und ist für Schwangere ab der 25. Schwangerschaftswoche sinnvoll. Eine zertifizierte Stillberaterin wird Sie auf die Zeit nach der Geburt vorbereiten\, und es besteht die Möglichkeit Fragen und Unsicherheiten zu besprechen. \nThemen des Online-Vortrags: Bedeutung des Stillens\, Stillen nach der Geburt\, Bonding\, Anlegepositionen\, Ernährung der Mutter\, Familienzimmer\, Fragen und Diskussion \nOrt: virtuell (Der Vortrag findet als Online-Vortrag über die Plattform Webex statt.) \nAnmeldung: nicht erforderlich \n  \nFoto: AdobeStock / leszekglasner
URL:https://termine.lieslotte.de/event/monatlicher-online-still-info-abend-online/
LOCATION:Online
CATEGORIES:Gesundheit,Vortrag
ATTACH;FMTTYPE=image/jpeg:https://termine.lieslotte.de/wp-content/uploads/2023/07/Button_Dummie_leerer_Termin2-1.jpg
END:VEVENT
BEGIN:VEVENT
DTSTART;TZID=Europe/Berlin:20250717T180000
DTEND;TZID=Europe/Berlin:20250717T200000
DTSTAMP:20260422T152757
CREATED:20250710T161722Z
LAST-MODIFIED:20250710T162143Z
UID:10016710-1752775200-1752782400@termine.lieslotte.de
SUMMARY:Aromapflege – Dufte Begleitung in besonderen Lebensphasen
DESCRIPTION:Tauchen Sie ein in die Welt der Aromapflege und entdecken Sie\, wie ätherische Öle Sie während der Schwangerschaft\, Geburt\, Stillzeit und im ersten Lebensjahr Ihres Kindes unterstützen können. In unserem spannenden Aromaworkshop erfahren Sie\, welche Düfte Ihr Wohlbefinden steigern und welche Öle Sie meiden sollten. \nSchwerpunkte des Workshops: \nÄtherische Öle während der Schwangerschaft: z.B. Unterstützung bei Dehnungsstreifen und Erkältungen. Was ist zu beachten?\nWohlbefinden im Wochenbett und bei Baby Blues · Individuelle Duftkreationen für Sie und Ihr Kind Lassen Sie sich von der wohltuenden Wirkung der Aromapflege inspirieren und bereichern Sie Ihren Alltag mit individuellen Düften. Jeder Tag ohne Duft ist ein unvollkommener Tag – machen Sie ihn vollkommen. \nOrt: KJF Berufsfachschule für Pflege an der KJF Klinik Josefinum (Kapellenstraße 17\, 86154 Augsburg). Die Veranstaltung findet im Erdgeschoss statt. \nAnmeldung erforderlich: elternschule@josefinum.de\nAnmeldung bitte aus organisatorischen Gründen spätestens 3 Tage vor Kursbeginn( jeweils Montag). \n  \nFoto: AdobeStock / Olga Miltsova
URL:https://termine.lieslotte.de/event/aromapflege-dufte-begleitung-in-besonderen-lebensphasen/
LOCATION:KJF Berufsfachschule für Pflege\, Kapellenstr. 17\, Augsburg\, Germany
CATEGORIES:Gesundheit,Kurs
ATTACH;FMTTYPE=image/jpeg:https://termine.lieslotte.de/wp-content/uploads/2025/07/AdobeStock_67487685_Von-Olga-Miltsova.jpg
END:VEVENT
BEGIN:VEVENT
DTSTART;TZID=Europe/Berlin:20250717T190000
DTEND;TZID=Europe/Berlin:20250717T203000
DTSTAMP:20260422T152757
CREATED:20250524T200741Z
LAST-MODIFIED:20250524T204251Z
UID:10016296-1752778800-1752784200@termine.lieslotte.de
SUMMARY:Online-Vortrag: Familienkost nach dem 1. Lebensjahr
DESCRIPTION:Gesunde Ernährung und ein gutes Essverhalten sind wichtige Elemente für lebenslange Gesundheit und Wohlbefinden. Die Basis eines genussvollen\, gesunden Essverhaltens wird bereits in den ersten Lebensjahren gelegt. \nIn dieser Veranstaltung erhalten Sie Informationen zum natürlichen Essverhalten Ihres Kindes und zu wichtigen frühkindlichen Erfahrungen beim Essen\, die ein Leben lang prägen. Praktische Tipps zum Umgang mit herausfordernden Situationen am Familientisch runden diese Veranstaltung ab. \nAnm. über Website \n  \nFoto: AdobeStock / Anurak
URL:https://termine.lieslotte.de/event/online-vortrag-gesund-ernaehrt-durch-die-schwangerschaft/
LOCATION:Online
CATEGORIES:Gesundheit
ATTACH;FMTTYPE=image/jpeg:https://termine.lieslotte.de/wp-content/uploads/2023/07/Button_Dummie_leerer_Termin2-1.jpg
END:VEVENT
END:VCALENDAR