BEGIN:VCALENDAR
VERSION:2.0
PRODID:-//liesLotte - Familienmagazin für Augsburg, Schwaben, Allgäu. - ECPv6.15.20//NONSGML v1.0//EN
CALSCALE:GREGORIAN
METHOD:PUBLISH
X-WR-CALNAME:liesLotte - Familienmagazin für Augsburg, Schwaben, Allgäu.
X-ORIGINAL-URL:https://termine.lieslotte.de
X-WR-CALDESC:Veranstaltungen für liesLotte - Familienmagazin für Augsburg, Schwaben, Allgäu.
REFRESH-INTERVAL;VALUE=DURATION:PT1H
X-Robots-Tag:noindex
X-PUBLISHED-TTL:PT1H
BEGIN:VTIMEZONE
TZID:Europe/Berlin
BEGIN:DAYLIGHT
TZOFFSETFROM:+0100
TZOFFSETTO:+0200
TZNAME:CEST
DTSTART:20250330T010000
END:DAYLIGHT
BEGIN:STANDARD
TZOFFSETFROM:+0200
TZOFFSETTO:+0100
TZNAME:CET
DTSTART:20251026T010000
END:STANDARD
BEGIN:DAYLIGHT
TZOFFSETFROM:+0100
TZOFFSETTO:+0200
TZNAME:CEST
DTSTART:20260329T010000
END:DAYLIGHT
BEGIN:STANDARD
TZOFFSETFROM:+0200
TZOFFSETTO:+0100
TZNAME:CET
DTSTART:20261025T010000
END:STANDARD
BEGIN:DAYLIGHT
TZOFFSETFROM:+0100
TZOFFSETTO:+0200
TZNAME:CEST
DTSTART:20270328T010000
END:DAYLIGHT
BEGIN:STANDARD
TZOFFSETFROM:+0200
TZOFFSETTO:+0100
TZNAME:CET
DTSTART:20271031T010000
END:STANDARD
END:VTIMEZONE
BEGIN:VEVENT
DTSTART;VALUE=DATE:20260424
DTEND;VALUE=DATE:20260425
DTSTAMP:20260424T131710
CREATED:20250101T174252Z
LAST-MODIFIED:20250205T143539Z
UID:10003010-1776988800-1777075199@termine.lieslotte.de
SUMMARY:Alle aktuellen Ausstellungen hier finden
DESCRIPTION:Viele schöne Ausstellungen in Museen und Kulturstätten in Augsburg und der Region:\nKlickt euch >> HIER << rein.
URL:https://termine.lieslotte.de/event/alle-aktuellen-ausstellungen-hier-finden-2/2026-04-24/
ATTACH;FMTTYPE=image/jpeg:https://termine.lieslotte.de/wp-content/uploads/2023/10/buttons_web_Sidebar_Kalender_Ausstellung.jpg
END:VEVENT
BEGIN:VEVENT
DTSTART;TZID=Europe/Berlin:20260424T060000
DTEND;TZID=Europe/Berlin:20260424T160000
DTSTAMP:20260424T131710
CREATED:20250116T154002Z
LAST-MODIFIED:20250116T161657Z
UID:10013215-1777010400-1777046400@termine.lieslotte.de
SUMMARY:Trödelmarkt bei der Rockfabrik Augsburg
DESCRIPTION:Wöchentlich am Mittwoch\, Freitag und Samstag findet in der Halle und auf dem Parkplatz der Rockfabrik in Augsburg bei jedem Wetter ein großer Antikmarkt statt. \nMittwochs und Freitags gibt es die Möglichkeit sich beim Trödel mit Kaffee und Kuchen und an einem Imbiss zu stärken. \nDie Halle wird im Winter zusätzlich beheizt. \nEintritt frei\nTelefon: 0176 363 42447 \nAlle Angaben sind ohne Gewähr. liesLotte ist nicht der Veranstalter. Märkte können jederzeit kurzfristig abgesagt oder geändert werden. Wir geben uns sehr viel Mühe Infos immer zeitnah einzupflegen\, können aber nicht garantieren dass die Informationen korrekt sind. Bitte informiere dich beim jeweiligen Veranstalter ob der Markt wirklich stattfindet\, bevor du dich auf den Weg machst. \n  \nFoto: AdobeStock/Fiedels
URL:https://termine.lieslotte.de/event/troedelmarkt-bei-der-rockfabrik-augsburg/2026-04-24/
LOCATION:Trödelmarkt bei der Rockfabrik\, Riedinger Straße 26\, Augsburg\, 86153
CATEGORIES:Flohmarkt
ATTACH;FMTTYPE=image/jpeg:https://termine.lieslotte.de/wp-content/uploads/2025/01/AdobeStock_529825361_Von-Fiedels.jpg
END:VEVENT
BEGIN:VEVENT
DTSTART;TZID=Europe/Berlin:20260424T143000
DTEND;TZID=Europe/Berlin:20260424T160000
DTSTAMP:20260424T131710
CREATED:20260405T143903Z
LAST-MODIFIED:20260405T143903Z
UID:10023900-1777041000-1777046400@termine.lieslotte.de
SUMMARY:Workshop: Schultüten basteln | f. Fam.
DESCRIPTION:Der erste Schultag naht – und die Schultüte soll etwas Besonderes sein. Im K.I.D.S. Familienstützpunkt Nord/West können Eltern alleine oder gemeinsam mit ihrem Kind eine eigene Schultüte gestalten. Das Motiv wird vorab bei der Anmeldung ausgewählt. \nAnmeldung erforderlich: familienstuetzpunkt@graceland-ev.de oder Tel. 0821/65094790. \n  \nFoto: AdobeStock / kwadd
URL:https://termine.lieslotte.de/event/workshop-schultueten-basteln-f-fam/
LOCATION:K.I.D.S. Familienstützpunkt Nord / West\, Luther-King-Str. 53\, Augsburg\, Deutschland
CATEGORIES:Kita + Schule
ATTACH;FMTTYPE=image/jpeg:https://termine.lieslotte.de/wp-content/uploads/2026/01/AdobeStock_210084203_kwadd_web.jpg
END:VEVENT
BEGIN:VEVENT
DTSTART;TZID=Europe/Berlin:20260424T143000
DTEND;TZID=Europe/Berlin:20260424T173000
DTSTAMP:20260424T131710
CREATED:20250810T071208Z
LAST-MODIFIED:20260225T163729Z
UID:10023150-1777041000-1777051800@termine.lieslotte.de
SUMMARY:Mach-Mit-Angebot: Bunt ist meine Lieblingsfarbe  |  6 - 12 J.
DESCRIPTION:Bunt ist meine Lieblingsfarbe\nEin Mach-Mit-Angebot für 6 bis 12-Jährige \nMagst Du Bilder\, Figuren und was sonst noch so im Museum herumsteht? Hast Du Lust auf Gucken\, Malen\, Friemeln\, Kneten? An verschiedenen Freitagen zeichnen\, klecksen oder bauen wir\, was das Zeug hält. \nAnmeldung mit Kontaktdaten ausschließlich per Mail an esm-buchungen@post.neu-ulm.de. \n  \nDie Anmeldefrist beträgt mind. zwei Tage vor der Veranstaltung. \nTeilnehmendenzahl begrenzt. \n  \nFoto: AdobeStock / Cookie-Studio
URL:https://termine.lieslotte.de/event/mach-mit-angebot-bunt-ist-meine-lieblingsfarbe-6-12-j-2/2026-04-24/
LOCATION:Edwin Scharff Museum\, Petrusplatz 4\, Neu-Ulm\, Bayern\, 89231\, DE
CATEGORIES:Kreativität,Museum
ATTACH;FMTTYPE=image/jpeg:https://termine.lieslotte.de/wp-content/uploads/2023/08/Malen_AdobeStock_167698210_Cookie-Studio.jpg
GEO:48.393609;9.999101
X-APPLE-STRUCTURED-LOCATION;VALUE=URI;X-ADDRESS=Edwin Scharff Museum Petrusplatz 4 Neu-Ulm Bayern 89231 DE;X-APPLE-RADIUS=500;X-TITLE=Petrusplatz 4:geo:9.999101,48.393609
END:VEVENT
BEGIN:VEVENT
DTSTART;TZID=Europe/Berlin:20260424T150000
DTEND;TZID=Europe/Berlin:20260424T150000
DTSTAMP:20260424T131710
CREATED:20250809T062345Z
LAST-MODIFIED:20260405T150745Z
UID:10023902-1777042800-1777042800@termine.lieslotte.de
SUMMARY:Planetarium: Polaris 1 - Das Weltraum-U-Boot und das Geheimnis der Polarnacht | ab 7J.
DESCRIPTION:James\, ein wissensdurstriger Pinguin vom Südpol\, trifft am Nordpol den Eisbären Vladimir. Die beiden werden Freunde\, staunen gemeinsam über die langen Polarnächte und schauen sich die Sterne an – bis sie beschließen\, in einem selbstgebauten Raumschiff aufzubrechen. \nIhre Reise führt um die Erde\, mit Abstechern zum Mars und zum Saturn. Unterwegs finden sie Antworten auf viele Fragen über das Universum. \nDie Vorstellung kombiniert einen live moderierten Teil zum aktuellen Sternenhimmel mit dem Planetariumsfilm. \n7 € (K)\, 9\,50 € (E)\, 23 € (F) \n  \nFoto: Polaris / S-Planetarium Augsburg
URL:https://termine.lieslotte.de/event/planetarium-polaris-1-das-weltraum-u-boot-und-das-geheimnis-der-polarnacht-4/2026-04-24/
LOCATION:S-Planetarium Augsburg\, Ludwigstr. 14\, Augsburg\, Deutschland
CATEGORIES:Show + Event
ATTACH;FMTTYPE=image/jpeg:https://termine.lieslotte.de/wp-content/uploads/2023/07/Polaris_planetarium-augsburg_2023.jpg
END:VEVENT
BEGIN:VEVENT
DTSTART;TZID=Europe/Berlin:20260424T150000
DTEND;TZID=Europe/Berlin:20260424T150000
DTSTAMP:20260424T131710
CREATED:20260405T145758Z
LAST-MODIFIED:20260405T145758Z
UID:10023901-1777042800-1777042800@termine.lieslotte.de
SUMMARY:Kindertheater: Oh\, wie schön ist Panama | ab 4 J.
DESCRIPTION:Der kleine Bär und der kleine Tiger leben gemütlich an ihrem Fluss – bis eine Kiste\, die nach Bananen duftet und auf der „Panama” zu lesen ist\, alles verändert. Die beiden Freunde machen sich auf den Weg und begegnen einer fleißigen Maus\, einer Kuh\, einem listigen Fuchs\, einem lustigen Hasen und einem gastfreundlichen Igel. \nDie liebevoll inszenierte Bühnenfassung von Janoschs Klassiker – mit aufwendigen Kostümen und einem Bühnenbild nach den Originalillustrationen – lässt Kinder und Erwachsene sofort in die Welt der beiden eintauchen. \nTickets im Vorverkauf: kultur-schwabmuenchen.de/ \n  \nFoto: Münchner Theater für Kinder 
URL:https://termine.lieslotte.de/event/kindertheater-oh-wie-schoen-ist-panama-ab-4-j-8/
LOCATION:Stadthalle Schwabmünchen\, Breitweg 20\, Schwabmünchen\, 86830
CATEGORIES:Theater
ATTACH;FMTTYPE=image/jpeg:https://termine.lieslotte.de/wp-content/uploads/2026/03/Oh-wie-schoen-ist-Panama-3-©-MTfK.jpg
END:VEVENT
BEGIN:VEVENT
DTSTART;TZID=Europe/Berlin:20260424T150000
DTEND;TZID=Europe/Berlin:20260424T160000
DTSTAMP:20260424T131710
CREATED:20251124T092541Z
LAST-MODIFIED:20260221T122854Z
UID:10021687-1777042800-1777046400@termine.lieslotte.de
SUMMARY:Entdeckerwerkstatt mit dem BeeBot | 5-7 J.
DESCRIPTION:In der Entdeckerwerkstatt treffen Geschichten auf Technik: Zuerst wird gemeinsam in eine spannende Erzählung eingetaucht\, anschließend geht es spielerisch ans Programmieren. Mit den BeeBots – kleinen Roboter-Bienen – werden Wege geplant\, Aufgaben gelöst und erste Programmierideen ausprobiert. \nGanz ohne Vorkenntnisse\, dafür mit viel Neugier und Bewegung. Schritt für Schritt wird ausprobiert\, was passiert\, wenn Befehle gegeben werden – und wie Technik plötzlich ganz logisch und greifbar wird. \nFür Kinder von 5 bis 7 Jahren\, ohne Eltern.\nDie Teilnehmendenzahl ist begrenzt.\nAnmeldung über die Website. \n  \nFoto: Schatzinsel Coding / Stadtbücherei Augsburg 
URL:https://termine.lieslotte.de/event/entdeckerwerkstatt-mit-dem-beebot-5-7-j-5/2026-04-24/
LOCATION:Stadtbücherei Augsburg\, Ernst-Reuter-Platz 1\, Augsburg\, Deutschland
CATEGORIES:Medien + Bücher
ATTACH;FMTTYPE=image/jpeg:https://termine.lieslotte.de/wp-content/uploads/2025/01/Schatzinsel-Coding_Stadtbuecherei-Augsburg.jpg
END:VEVENT
BEGIN:VEVENT
DTSTART;TZID=Europe/Berlin:20260424T150000
DTEND;TZID=Europe/Berlin:20260424T170000
DTSTAMP:20260424T131710
CREATED:20260104T092339Z
LAST-MODIFIED:20260307T174828Z
UID:10021505-1777042800-1777050000@termine.lieslotte.de
SUMMARY:Kindertheater: Die kleine Hexe | ab 6 J.
DESCRIPTION:nach Otfried Preußler \nSie ist jung\, talentiert – und passt so gar nicht in das Bild einer „richtigen“ Hexe. Statt Unheil zu stiften\, will sie helfen und Gutes tun. In dieser Theaterfassung nach dem Kinderbuchklassiker von Die kleine Hexe wird die bekannte Geschichte lebendig erzählt: mit missglückten Zaubersprüchen\, einem treuen Raben an ihrer Seite und einer großen Prüfung\, die alles entscheidet. \nZwischen Humor\, Magie und Spannung geht es um Zivilcourage\, Gerechtigkeit und den Mut\, seinen eigenen Weg zu gehen – auch wenn andere das nicht gutheißen. \nOnline Tickets oder telefonisch\nan der Theaterkasse 089 /59 54 54\nGeeignet ab 6 Jahren\nDauer: ca. 1:50 Std. mit Pause \n  \nFoto: Münchner Theater für Kinder / Ismena Schickert \n 
URL:https://termine.lieslotte.de/event/kindertheater-die-kleine-hexe-ab-6-j/2026-04-24/
LOCATION:Münchener Theater für Kinder
CATEGORIES:Theater
ATTACH;FMTTYPE=image/jpeg:https://termine.lieslotte.de/wp-content/uploads/2026/01/Die-kleine-Hexe_01©Ismena-Schickert-1.jpg
END:VEVENT
BEGIN:VEVENT
DTSTART;TZID=Europe/Berlin:20260424T153000
DTEND;TZID=Europe/Berlin:20260424T173000
DTSTAMP:20260424T131710
CREATED:20260405T151339Z
LAST-MODIFIED:20260405T151339Z
UID:10023903-1777044600-1777051800@termine.lieslotte.de
SUMMARY:Workshop: Die Biene und ihre Produkte | 6–10 J.
DESCRIPTION:Was macht eine Biene den ganzen Tag? Wie sieht es im Bienenstock aus – und wie entstehen Honig und Bienenwachs? \nIn diesem Nachmittagskurs gehen Kinder diesen Fragen auf den Grund und werden danach selbst aktiv: Aus Bienenwachs werden Lippenfettstifte und Kerzen hergestellt. \nAnmeldung erforderlich: vhs-augsburger-land.de (Kurs-Nr. 26LN9104n101). \n  \nFoto: AdobeStock / Darios
URL:https://termine.lieslotte.de/event/workshop-die-biene-und-ihre-produkte-6-10-j-5/
LOCATION:Grundschule Langenneufnach\, Sschulstr. 9\, Langenneufnach\, Bayern\, DE
CATEGORIES:Kurs,Natur + Tiere
ATTACH;FMTTYPE=image/jpeg:https://termine.lieslotte.de/wp-content/uploads/2023/10/Bienen_Honig_AdobeStock_279813691_Darios.jpg
GEO:48.26667;10.6
X-APPLE-STRUCTURED-LOCATION;VALUE=URI;X-ADDRESS=Grundschule Langenneufnach Sschulstr. 9 Langenneufnach Bayern DE;X-APPLE-RADIUS=500;X-TITLE=Sschulstr. 9:geo:10.6,48.26667
END:VEVENT
BEGIN:VEVENT
DTSTART;TZID=Europe/Berlin:20260424T160000
DTEND;TZID=Europe/Berlin:20260424T180000
DTSTAMP:20260424T131710
CREATED:20260405T155218Z
LAST-MODIFIED:20260405T155218Z
UID:10023908-1777046400-1777053600@termine.lieslotte.de
SUMMARY:Workshop: Faszination Gaming – Eltern und Kinder ins Gespräch bringen | 9–14 J.
DESCRIPTION:Gaming sorgt in vielen Familien für Konflikte: Eltern verstehen nicht\, was Kinder an digitalen Spielen so fesselt – Kinder hingegen erleben Erfolgserlebnisse\, kommunizieren mit Freunden und tauchen in faszinierende Welten ein. \nDieser kostenlose Eltern-Kind-Workshop bringt beide Seiten ins Gespräch. Medienpädagogen des JFF Augsburg geben Eltern Tipps zum Umgang mit Gaming in der Familie – und Kinder entdecken\, wie sie selbst kreativ werden und vom Konsumenten zum Produzenten werden können. \nAnmeldung erforderlich: awo-haus-der-familie.de (Kurs-Nr. Z.21). \n  \nFoto: AdobeStock / Victoria
URL:https://termine.lieslotte.de/event/workshop-faszination-gaming-eltern-und-kinder-ins-gespraech-bringen-9-14-j/
LOCATION:Haus der Familie Stadtbergen\, Goethestraße 12\, Stadtbergen\, 86391
CATEGORIES:Medien + Bücher
ATTACH;FMTTYPE=image/jpeg:https://termine.lieslotte.de/wp-content/uploads/2025/11/Medien_AdobeStock_1225029756_Victoria.jpg
GEO:48.36564;10.85086
X-APPLE-STRUCTURED-LOCATION;VALUE=URI;X-ADDRESS=Haus der Familie Stadtbergen Goethestraße 12 Stadtbergen 86391;X-APPLE-RADIUS=500;X-TITLE=Goethestraße 12:geo:10.85086,48.36564
END:VEVENT
BEGIN:VEVENT
DTSTART;TZID=Europe/Berlin:20260424T163000
DTEND;TZID=Europe/Berlin:20260424T183000
DTSTAMP:20260424T131710
CREATED:20260405T160608Z
LAST-MODIFIED:20260405T160608Z
UID:10023910-1777048200-1777055400@termine.lieslotte.de
SUMMARY:Workshop: Weidenflechten – Weidenfisch | ab 8 J.
DESCRIPTION:Aus biegsamen Weidenästen entsteht in diesem Nachmittagskurs ein Fisch – geflochten\, dekoriert mit Muscheln\, Filzbändern und anderen Materialien und am Ende bereit für Tür\, Fenster oder Garten. Ein handwerklicher Kurs\, der zeigt\, was mit Naturmaterialien und ein bisschen Geduld alles möglich ist. \nAnmeldung erforderlich: vhs-augsburger-land.de (Kurs-Nr. 26ZU9210e101). \n  \nFoto: AdobeStock / Gerhard-Seybert
URL:https://termine.lieslotte.de/event/workshop-weidenflechten-weidenfisch-ab-8-j/
LOCATION:Grund- und Mittelschule Zusmarshausen\, Stadionstraße 2\, Zusmarshausen\, 86441
CATEGORIES:Kurs
ATTACH;FMTTYPE=image/jpeg:https://termine.lieslotte.de/wp-content/uploads/2025/03/Weiden_Korb_AdobeStock_40134720_Gerhard-Seybert.jpg
END:VEVENT
BEGIN:VEVENT
DTSTART;TZID=Europe/Berlin:20260424T170000
DTEND;TZID=Europe/Berlin:20260424T170000
DTSTAMP:20260424T131710
CREATED:20260301T074004Z
LAST-MODIFIED:20260301T141810Z
UID:10023179-1777050000-1777050000@termine.lieslotte.de
SUMMARY:"Papa\, lass uns was erleben" - Abenteuerliches Vater-Kinder-Wochenende
DESCRIPTION:Ein Wochenende nur für Väter und ihre Kinder – mit Zeit für Abenteuer\, Gespräche und echtes Zusammensein. Am Lagerfeuer sitzen\, Geschichten hören\, spielen\, basteln und draußen aktiv sein: Hier entstehen besondere Momente\, die im Alltag oft fehlen. \nNeben gemeinsamen Aktionen gibt es auch Raum für Austausch unter Vätern\, während die Kinder begleitet eigene Erlebnisse sammeln. So wächst nicht nur die Gemeinschaft\, sondern auch Vertrauen und Verbundenheit. \nEin gemeinsamer bunter Familiengottesdienst bildet den Abschluss dieses intensiven Wochenendes voller Nähe\, Freude und neuer Erinnerungen. \nKur­snr. 26FB009\nAnmeldung erforderlich \nKur­sg­eb­ühr Er­w­achsene inkl. Über­n­ac­htung und Verpfl­egung: 115\,00 €\nKin­der 1 bis 6 Jah­re: 50\,00 €\nKin­der 7 bis 18 Jah­re: 60\,00 € \n  \nFoto: AdobeStock / Valeriia
URL:https://termine.lieslotte.de/event/abenteuerliches-vater-kinder-wochenende-papa-lass-uns-was-erleben/
LOCATION:Bildungszentrum Kloster Roggenburg\, Klosterstr. 3\, Roggenburg\, Bayern\, 89297\, DE
CATEGORIES:Kurs,Natur + Tiere
ATTACH;FMTTYPE=image/jpeg:https://termine.lieslotte.de/wp-content/uploads/2026/01/AdobeStock_445241669_Valeriia_web.jpg
GEO:48.275299;10.229363
X-APPLE-STRUCTURED-LOCATION;VALUE=URI;X-ADDRESS=Bildungszentrum Kloster Roggenburg Klosterstr. 3 Roggenburg Bayern 89297 DE;X-APPLE-RADIUS=500;X-TITLE=Klosterstr. 3:geo:10.229363,48.275299
END:VEVENT
BEGIN:VEVENT
DTSTART;TZID=Europe/Berlin:20260424T170000
DTEND;TZID=Europe/Berlin:20260424T223000
DTSTAMP:20260424T131710
CREATED:20260421T162207Z
LAST-MODIFIED:20260421T162403Z
UID:10024280-1777050000-1777069800@termine.lieslotte.de
SUMMARY:Kirschblütenfest Augsburg-Oberhausen
DESCRIPTION:Drei Tage lang verwandelt sich der Helmut-Haller-Platz in Augsburg-Oberhausen in eine offene Bühne für Musik\, Begegnung und Stadtteilleben. Das Kirschblütenfest bringt Generationen zusammen — von rockigen Freitagabenden über einen familienfreundlichen Samstagnachmittag bis zum gemütlichen Weißwurstfrühschoppen am Sonntag. \nFür Kinder gibt es Luftballonmodellage\, Zaubershow\, Kinderschminken und Stockbrotbacken. Auf der Bühne wechseln sich Bands aus ganz unterschiedlichen Genres ab: Rock\, Reggae\, Big-Band\, Rap\, Powerfolk und Soul. Dazu kulinarische Vielfalt von Bratwurst bis Cevapcici — bei freiem Eintritt. \n  \nFoto: AdobeStock / Route16
URL:https://termine.lieslotte.de/event/kirschbluetenfest-augsburg-oberhausen-f-fam/2026-04-24/
LOCATION:Helmut-Haller-Platz\, Augsburg-Oberhausen
CATEGORIES:Feste
ATTACH;FMTTYPE=image/jpeg:https://termine.lieslotte.de/wp-content/uploads/2025/04/Japan_AdobeStock_453600966_Route16.jpg
END:VEVENT
BEGIN:VEVENT
DTSTART;TZID=Europe/Berlin:20260424T183000
DTEND;TZID=Europe/Berlin:20260424T200000
DTSTAMP:20260424T131710
CREATED:20260116T154036Z
LAST-MODIFIED:20260116T154036Z
UID:10022222-1777055400-1777060800@termine.lieslotte.de
SUMMARY:Abend-Führung im Zoo Augsburg
DESCRIPTION:Wenn der Zoo für den regulären Betrieb geschlossen ist\, beginnt eine ganz besondere Zeit. \nBei den Abendführungen geht es in kleiner Runde durch das Gelände – ohne weitere Besucher\, in ruhiger Atmosphäre. Viele Tiere reagieren aufmerksam auf die ungewohnte Situation und zeigen sich von einer anderen Seite. \nBegleitet von erfahrenen Führerinnen und Führern erfahren die Teilnehmenden Wissenswertes über die Tiere\, ihre Eigenarten sowie Aktuelles und Historisches aus dem Zooalltag. \nEin abendlicher Rundgang\, der Beobachtung\, Geschichten und besondere Stimmung verbindet und den Zoo einmal ganz anders erlebbar macht. \nDie Nach­fra­ge für die­se An­ge­bo­te ist sehr groß. Eine An­mel­dung vor­ab ist da­her er­for­der­lich.\nTelefon: 0821 56714911\nE-Mail: info@zoo-augsburg.de \nKosten: Er­wach­se­ne: 18 EURO; Kin­der bis 15 Jah­re: 11\,50 EURO; Jah­res­kar­ten­be­sit­zer: 4 EURO \n  \nFoto: Erdmännchen / Zoo Augsburg
URL:https://termine.lieslotte.de/event/abend-fuehrung-im-zoo-augsburg/
LOCATION:Zoo Augsburg\, Brehmplatz 1\, Augsburg\, Deutschland
CATEGORIES:Führung,Natur + Tiere
ATTACH;FMTTYPE=image/jpeg:https://termine.lieslotte.de/wp-content/uploads/2023/10/Zoo_Augsburg_Erdmaennchen.jpg
END:VEVENT
BEGIN:VEVENT
DTSTART;TZID=Europe/Berlin:20260424T183000
DTEND;TZID=Europe/Berlin:20260424T213000
DTSTAMP:20260424T131710
CREATED:20260405T161811Z
LAST-MODIFIED:20260405T161811Z
UID:10023911-1777055400-1777066200@termine.lieslotte.de
SUMMARY:Vortrag: Generation Krise – Jugendliche zwischen Druck\, Medien und Zukunftsangst | f. Erw.
DESCRIPTION:Krisen\, Klimawandel\, Leistungsdruck\, Unsicherheit – viele Jugendliche fühlen sich erschöpft\, orientierungslos oder emotional überfordert. Gleichzeitig stoßen Eltern und Lehrkräfte mit bewährten Methoden immer häufiger an Grenzen. \nDieser Abend schafft Raum für Verständnis und neue Perspektiven: Warum nehmen Ängste\, Depressionen und psychosomatische Beschwerden bei jungen Menschen so stark zu? Welche Folgen hat die ständige Erfahrung von Krisen für die Psyche – und wie kann man Jugendliche wieder stärken? Impulse aus der Praxis\, psychologische Erklärungsmodelle und gesellschaftliche Zusammenhänge laden zum Nachdenken und Austausch ein. \nAnmeldung erforderlich: vhs-aichach-friedberg.de (Kurs-Nr. F26008-07). \n  \nFoto: AdobeStock / Anton-Gvozdikov
URL:https://termine.lieslotte.de/event/vortrag-generation-krise-jugendliche-zwischen-druck-medien-und-zukunftsangst-f-erw/
LOCATION:Grund- und Mittelschule Friedberg\, Aichacher Str. 5\, Friedberg\, Bayern\, 86316\, DE
CATEGORIES:Pädagogik + Familie,Vortrag
ATTACH;FMTTYPE=image/jpeg:https://termine.lieslotte.de/wp-content/uploads/2025/04/Vortrag_AdobeStock_928661149_Anton-Gvozdikov.jpg
GEO:48.35641;10.983043
X-APPLE-STRUCTURED-LOCATION;VALUE=URI;X-ADDRESS=Grund- und Mittelschule Friedberg Aichacher Str. 5 Friedberg Bayern 86316 DE;X-APPLE-RADIUS=500;X-TITLE=Aichacher Str. 5:geo:10.983043,48.35641
END:VEVENT
BEGIN:VEVENT
DTSTART;TZID=Europe/Berlin:20260424T183000
DTEND;TZID=Europe/Berlin:20260424T220000
DTSTAMP:20260424T131710
CREATED:20260405T155928Z
LAST-MODIFIED:20260405T155928Z
UID:10023909-1777055400-1777068000@termine.lieslotte.de
SUMMARY:Workshop: Erinnerung in Stoff – Deine persönliche Schultüte | f. Erw.
DESCRIPTION:Eine selbst genähte Schultüte ist mehr als ein Geschenk zum Schulanfang – sie wird mit Namen und Datum personalisiert und nach dem großen Tag zum Kuschelkissen. Ein Erinnerungsstück\, das bleibt. \nIn diesem Abend-Workshop wird die Schultüte aus Stoff genäht und mit der Stickmaschine individualisiert. Keine Vorkenntnisse erforderlich. Nähmaschine kann gegen 5 € Aufpreis geliehen werden\, Schnitte und Stoffe sind bei der Kursleiterin erhältlich. \nAnmeldung erforderlich: awo-haus-der-familie.de (Kurs-Nr. Z.50). \n  \nFoto: AdobeStock / kwadd
URL:https://termine.lieslotte.de/event/workshop-erinnerung-in-stoff-deine-persoenliche-schultuete-f-erw/
LOCATION:Haus der Familie Stadtbergen\, Goethestraße 12\, Stadtbergen\, 86391
CATEGORIES:Kita + Schule,Kreativität,Kurs
ATTACH;FMTTYPE=image/jpeg:https://termine.lieslotte.de/wp-content/uploads/2026/01/AdobeStock_210084203_kwadd_web.jpg
GEO:48.36564;10.85086
X-APPLE-STRUCTURED-LOCATION;VALUE=URI;X-ADDRESS=Haus der Familie Stadtbergen Goethestraße 12 Stadtbergen 86391;X-APPLE-RADIUS=500;X-TITLE=Goethestraße 12:geo:10.85086,48.36564
END:VEVENT
BEGIN:VEVENT
DTSTART;TZID=Europe/Berlin:20260424T200000
DTEND;TZID=Europe/Berlin:20260424T200000
DTSTAMP:20260424T131710
CREATED:20260405T162239Z
LAST-MODIFIED:20260405T162239Z
UID:10023912-1777060800-1777060800@termine.lieslotte.de
SUMMARY:Kabarett: 2. Neusässer Lachnacht
DESCRIPTION:Moderator Ole Lehmann – bekannt als Stimme des Quatsch Comedy Clubs – bringt wieder ein Feuerwerk der Kleinkunst auf die Bühne der Stadthalle Neusäß. \nMit dabei: David Werker\, der urkomische Chronist des späten Erwachsenwerdens; Mia Pittroff\, vordergründig nett\, hintersinnig böse; Sebastian Krämer mit Texten von eindringlicher Geschliffenheit und berührender Musik; sowie Gitarren-Comedian Mago Masin\, der Improvisationsmeister mit dem schrägen Humor. \nTickets im Vorverkauf im Rathaus Neusäß (ohne Aufpreis) sowie online: stadthalle-neusaess.reservix.de \n  \nFoto: Lachnacht Stadthalle Neusäß
URL:https://termine.lieslotte.de/event/kabarett-2-neusaesser-lachnacht/
LOCATION:Stadthalle Neusäß\, Hauptstr. 26\, Neusäß\, 86356\, Deutschland
CATEGORIES:Show + Event
ATTACH;FMTTYPE=image/jpeg:https://termine.lieslotte.de/wp-content/uploads/2026/03/Lachnacht_FB_Neusaess_1080x1350px_Stadthalle-Neusaess.jpg
END:VEVENT
BEGIN:VEVENT
DTSTART;TZID=Europe/Berlin:20260424T200000
DTEND;TZID=Europe/Berlin:20260424T220000
DTSTAMP:20260424T131710
CREATED:20260224T182510Z
LAST-MODIFIED:20260224T182510Z
UID:10023135-1777060800-1777068000@termine.lieslotte.de
SUMMARY:LAGERFEUER-ABEND: Jörg Fischer erzählt Märchen von Weisheit und Glück | f. Erw.
DESCRIPTION:Vier Märchen\, zwei große Themen – und ein Abend voller Atmosphäre. Joerg Fischer widmet sich Geschichten über Weisheit und Glück: mal augenzwinkernd\, mal überraschend\, mal mit diesem besonderen „Déjà-vu“-Gefühl\, wenn alles anders kommt als gedacht. \nOb „Kaanitverstaan“\, „Die vier kunstreichen Brüder“ oder das kluge Bäuerlein im Schlagabtausch mit dem Teufel – hier wird gelauscht\, geschmunzelt und vielleicht ein Stück eigene Lebensweisheit entdeckt. Zwischen Handpan-Klängen und Kräuterstockbrot entfaltet sich Kleinkunst ganz nah am Publikum. \nEin Lagerfeuerabend für Erwachsene\, die wissen: Glück findet man selten im Sessel – eher auf dem Weg dorthin. \nJetzt Ticket sichern \nEinlass erst 10 Minuten vor Beginn der Vorstellung! \n  \nFoto: Märchenzelt Augsburg  \n 
URL:https://termine.lieslotte.de/event/lagerfeuer-abend-joerg-fischer-erzaehlt-maerchen-von-weisheit-und-glueck-f-erw/
LOCATION:Das Märchenzelt\, Sommestraße 30\, Augsburg\, 86156\, DE
CATEGORIES:Show + Event
ATTACH;FMTTYPE=image/jpeg:https://termine.lieslotte.de/wp-content/uploads/2024/09/Maerchenzelt-Augsburg_Sonne.jpg
GEO:48.377319;10.8679283
X-APPLE-STRUCTURED-LOCATION;VALUE=URI;X-ADDRESS=Das Märchenzelt Sommestraße 30 Augsburg 86156 DE;X-APPLE-RADIUS=500;X-TITLE=Sommestraße 30:geo:10.8679283,48.377319
END:VEVENT
END:VCALENDAR