BEGIN:VCALENDAR
VERSION:2.0
PRODID:-//liesLotte - Familienmagazin für Augsburg, Schwaben, Allgäu. - ECPv6.15.20//NONSGML v1.0//EN
CALSCALE:GREGORIAN
METHOD:PUBLISH
X-WR-CALNAME:liesLotte - Familienmagazin für Augsburg, Schwaben, Allgäu.
X-ORIGINAL-URL:https://termine.lieslotte.de
X-WR-CALDESC:Veranstaltungen für liesLotte - Familienmagazin für Augsburg, Schwaben, Allgäu.
REFRESH-INTERVAL;VALUE=DURATION:PT1H
X-Robots-Tag:noindex
X-PUBLISHED-TTL:PT1H
BEGIN:VTIMEZONE
TZID:Europe/Berlin
BEGIN:DAYLIGHT
TZOFFSETFROM:+0100
TZOFFSETTO:+0200
TZNAME:CEST
DTSTART:20250330T010000
END:DAYLIGHT
BEGIN:STANDARD
TZOFFSETFROM:+0200
TZOFFSETTO:+0100
TZNAME:CET
DTSTART:20251026T010000
END:STANDARD
BEGIN:DAYLIGHT
TZOFFSETFROM:+0100
TZOFFSETTO:+0200
TZNAME:CEST
DTSTART:20260329T010000
END:DAYLIGHT
BEGIN:STANDARD
TZOFFSETFROM:+0200
TZOFFSETTO:+0100
TZNAME:CET
DTSTART:20261025T010000
END:STANDARD
BEGIN:DAYLIGHT
TZOFFSETFROM:+0100
TZOFFSETTO:+0200
TZNAME:CEST
DTSTART:20270328T010000
END:DAYLIGHT
BEGIN:STANDARD
TZOFFSETFROM:+0200
TZOFFSETTO:+0100
TZNAME:CET
DTSTART:20271031T010000
END:STANDARD
END:VTIMEZONE
BEGIN:VEVENT
DTSTART;TZID=Europe/Berlin:20260501T090000
DTEND;TZID=Europe/Berlin:20260501T180000
DTSTAMP:20260424T120806
CREATED:20260410T134634Z
LAST-MODIFIED:20260410T134634Z
UID:10023995-1777626000-1777658400@termine.lieslotte.de
SUMMARY:Hofis Erlebnispark – Großes Eröffnungsfest f. Fam.
DESCRIPTION:Mit einem großen Eröffnungsfest startet Hofis Erlebnispark in Dasing in seine erste Saison. Auf 50.000 Quadratmetern erwartet Familien eine fantasievolle Abenteuerwelt mit bayerischem Charme und jeder Menge Beerenliebe. \nHighlights sind der weitläufige Außenbereich mit moderater Achterbahn\, Swing Tower und liebevoll gestalteten Spielwelten wie Kraxlwald\, Strohlabyrinth und Wasserspielplatz. Auch indoor wird geklettert\, gerutscht und gebaut. \nTierische Begegnungen mit Ponys und Alpakas\, ein buntes Familienprogramm sowie kulinarische Stationen mit süßen und herzhaften Hofspezialitäten machen den Auftakt zu einem besonderen Erlebnis für Groß und Klein.
URL:https://termine.lieslotte.de/event/hofis-erlebnispark-grosses-eroeffnungsfest-f-fam/
LOCATION:Hofis Erlebnispark\, Neulwirth 3\, Dasing\, 86453\, Germany
CATEGORIES:Feste
ATTACH;FMTTYPE=image/jpeg:https://termine.lieslotte.de/wp-content/uploads/2026/03/Hofis_Erlebnispark_Dasing.jpg
END:VEVENT
END:VCALENDAR