BEGIN:VCALENDAR
VERSION:2.0
PRODID:-//liesLotte - Familienmagazin für Augsburg, Schwaben, Allgäu. - ECPv6.15.20//NONSGML v1.0//EN
CALSCALE:GREGORIAN
METHOD:PUBLISH
X-ORIGINAL-URL:https://termine.lieslotte.de
X-WR-CALDESC:Veranstaltungen für liesLotte - Familienmagazin für Augsburg, Schwaben, Allgäu.
REFRESH-INTERVAL;VALUE=DURATION:PT1H
X-Robots-Tag:noindex
X-PUBLISHED-TTL:PT1H
BEGIN:VTIMEZONE
TZID:Europe/Berlin
BEGIN:DAYLIGHT
TZOFFSETFROM:+0100
TZOFFSETTO:+0200
TZNAME:CEST
DTSTART:20250330T010000
END:DAYLIGHT
BEGIN:STANDARD
TZOFFSETFROM:+0200
TZOFFSETTO:+0100
TZNAME:CET
DTSTART:20251026T010000
END:STANDARD
BEGIN:DAYLIGHT
TZOFFSETFROM:+0100
TZOFFSETTO:+0200
TZNAME:CEST
DTSTART:20260329T010000
END:DAYLIGHT
BEGIN:STANDARD
TZOFFSETFROM:+0200
TZOFFSETTO:+0100
TZNAME:CET
DTSTART:20261025T010000
END:STANDARD
BEGIN:DAYLIGHT
TZOFFSETFROM:+0100
TZOFFSETTO:+0200
TZNAME:CEST
DTSTART:20270328T010000
END:DAYLIGHT
BEGIN:STANDARD
TZOFFSETFROM:+0200
TZOFFSETTO:+0100
TZNAME:CET
DTSTART:20271031T010000
END:STANDARD
END:VTIMEZONE
BEGIN:VEVENT
DTSTART;TZID=Europe/Berlin:20260301T190000
DTEND;TZID=Europe/Berlin:20260301T203000
DTSTAMP:20260422T171737
CREATED:20260218T154426Z
LAST-MODIFIED:20260218T155652Z
UID:10023043-1772391600-1772397000@termine.lieslotte.de
SUMMARY:Lichtbildervortrag: Spanienrundreise mit Andalusien | f. Fam.
DESCRIPTION:Mit dem Wohnmobil unterwegs durch Spanien: Gabriele und Manfred Münzner nehmen das Publikum mit auf ihre persönliche Reise durch beeindruckende Städte\, weite Landschaften und kulturelle Höhepunkte. \nIn Bildern und Erzählungen entstehen lebendige Eindrücke von Barcelona\, Valencia und Gibraltar bis hin zu Cádiz\, Sevilla und Córdoba. \nDer Vortrag verbindet Fernweh\, Entdeckerlust und authentische Reiseerfahrungen zu einem stimmungsvollen Abend. So öffnet sich ein Fenster in den Süden Europas – voller Farben\, Begegnungen und Geschichten von unterwegs. \n  \nohne Anm.\nTel: 08292 1704 \n  \nFoto: AdobeStock / fabioderby
URL:https://termine.lieslotte.de/event/lichtbildervortrag-spanienreise-mit-andalusien-f-fam/
LOCATION:Bücherei Oberschönenberg\, Schulstr. 1\, Dinkelscherben\, Germany
CATEGORIES:Film
ATTACH;FMTTYPE=image/jpeg:https://termine.lieslotte.de/wp-content/uploads/2025/09/Kino_AdobeStock_87492263_fabioderby.jpg
END:VEVENT
END:VCALENDAR