BEGIN:VCALENDAR
VERSION:2.0
PRODID:-//liesLotte - Familienmagazin für Augsburg, Schwaben, Allgäu. - ECPv6.15.20//NONSGML v1.0//EN
CALSCALE:GREGORIAN
METHOD:PUBLISH
X-WR-CALNAME:liesLotte - Familienmagazin für Augsburg, Schwaben, Allgäu.
X-ORIGINAL-URL:https://termine.lieslotte.de
X-WR-CALDESC:Veranstaltungen für liesLotte - Familienmagazin für Augsburg, Schwaben, Allgäu.
REFRESH-INTERVAL;VALUE=DURATION:PT1H
X-Robots-Tag:noindex
X-PUBLISHED-TTL:PT1H
BEGIN:VTIMEZONE
TZID:Europe/Berlin
BEGIN:DAYLIGHT
TZOFFSETFROM:+0100
TZOFFSETTO:+0200
TZNAME:CEST
DTSTART:20250330T010000
END:DAYLIGHT
BEGIN:STANDARD
TZOFFSETFROM:+0200
TZOFFSETTO:+0100
TZNAME:CET
DTSTART:20251026T010000
END:STANDARD
BEGIN:DAYLIGHT
TZOFFSETFROM:+0100
TZOFFSETTO:+0200
TZNAME:CEST
DTSTART:20260329T010000
END:DAYLIGHT
BEGIN:STANDARD
TZOFFSETFROM:+0200
TZOFFSETTO:+0100
TZNAME:CET
DTSTART:20261025T010000
END:STANDARD
BEGIN:DAYLIGHT
TZOFFSETFROM:+0100
TZOFFSETTO:+0200
TZNAME:CEST
DTSTART:20270328T010000
END:DAYLIGHT
BEGIN:STANDARD
TZOFFSETFROM:+0200
TZOFFSETTO:+0100
TZNAME:CET
DTSTART:20271031T010000
END:STANDARD
END:VTIMEZONE
BEGIN:VEVENT
DTSTART;TZID=Europe/Berlin:20260625T160000
DTEND;TZID=Europe/Berlin:20260625T160000
DTSTAMP:20260422T123052
CREATED:20260405T153541Z
LAST-MODIFIED:20260405T153541Z
UID:10023906-1782403200-1782403200@termine.lieslotte.de
SUMMARY:Mitmach-Gottesdienst: Wasserspaß | f. Fam.
DESCRIPTION:Wasser ist Leben – und voller Geheimnisse. Beim Wasserspaß-Gottesdienst wird experimentiert\, gespritzt und gestaunt: Was hat Wasser mit dem Glauben zu tun? \nMit Taufe\, Erfrischung\, Neuanfang? Ein fröhlicher Sommergottesdienst für Familien\, der Kinder zum Mitmachen und Mitdenken einlädt. \nJe nach Wetter in der St. Paul-Kirche oder im Garten. \nKeine Anmeldung erforderlich. \n  \nFoto: Logo Mitmach-Gottesdienst
URL:https://termine.lieslotte.de/event/mitmach-gottesdienst-wasserspass-f-fam/
LOCATION:St. Paul-Kirche\, Fröbelstr. 1\, Augsburg\, Germany
CATEGORIES:Religion
ATTACH;FMTTYPE=image/jpeg:https://termine.lieslotte.de/wp-content/uploads/2024/05/Logo-Mitmach-Gottesdienst.jpg
END:VEVENT
END:VCALENDAR