BEGIN:VCALENDAR
VERSION:2.0
PRODID:-//liesLotte - Familienmagazin für Augsburg, Schwaben, Allgäu. - ECPv6.15.20//NONSGML v1.0//EN
CALSCALE:GREGORIAN
METHOD:PUBLISH
X-WR-CALNAME:liesLotte - Familienmagazin für Augsburg, Schwaben, Allgäu.
X-ORIGINAL-URL:https://termine.lieslotte.de
X-WR-CALDESC:Veranstaltungen für liesLotte - Familienmagazin für Augsburg, Schwaben, Allgäu.
REFRESH-INTERVAL;VALUE=DURATION:PT1H
X-Robots-Tag:noindex
X-PUBLISHED-TTL:PT1H
BEGIN:VTIMEZONE
TZID:Europe/Berlin
BEGIN:DAYLIGHT
TZOFFSETFROM:+0100
TZOFFSETTO:+0200
TZNAME:CEST
DTSTART:20250330T010000
END:DAYLIGHT
BEGIN:STANDARD
TZOFFSETFROM:+0200
TZOFFSETTO:+0100
TZNAME:CET
DTSTART:20251026T010000
END:STANDARD
BEGIN:DAYLIGHT
TZOFFSETFROM:+0100
TZOFFSETTO:+0200
TZNAME:CEST
DTSTART:20260329T010000
END:DAYLIGHT
BEGIN:STANDARD
TZOFFSETFROM:+0200
TZOFFSETTO:+0100
TZNAME:CET
DTSTART:20261025T010000
END:STANDARD
BEGIN:DAYLIGHT
TZOFFSETFROM:+0100
TZOFFSETTO:+0200
TZNAME:CEST
DTSTART:20270328T010000
END:DAYLIGHT
BEGIN:STANDARD
TZOFFSETFROM:+0200
TZOFFSETTO:+0100
TZNAME:CET
DTSTART:20271031T010000
END:STANDARD
END:VTIMEZONE
BEGIN:VEVENT
DTSTART;TZID=Europe/Berlin:20260201T090000
DTEND;TZID=Europe/Berlin:20260201T110000
DTSTAMP:20260423T135120
CREATED:20260116T161822Z
LAST-MODIFIED:20260116T161822Z
UID:10022227-1769936400-1769943600@termine.lieslotte.de
SUMMARY:Naturspaziergang: Winter an der Wertach | f. Fam.
DESCRIPTION:Im Winter zeigt sich die Wertach von einer besonderen Seite. Bei diesem Naturspaziergang geht es auf Entdeckungstour entlang des Flusses: Gesucht werden Wintergäste aus dem Norden\, die hier Rast machen\, aber auch heimische Pflanzen und Tiere\, die die kalte Jahreszeit vor Ort überdauern. Schritt für Schritt eröffnet sich ein Blick auf die oft übersehene Vielfalt der winterlichen Landschaft. \nDer Spaziergang verbindet Bewegung an der frischen Luft mit Naturbeobachtung und Wissen – ruhig\, entschleunigt und mit offenem Blick für kleine Details. \nBitte mitbringen/beachten: Warme Kleidung\, Fernglas (falls vorhanden) \n  \nFoto: AdobeStock / wWeiss-Lichtspiele
URL:https://termine.lieslotte.de/event/naturspaziergang-winter-an-der-wertach-f-fam/
LOCATION:Wertachbrücke an der Wellenburger Straße\, Augsburg
CATEGORIES:Führung,Natur + Tiere
ATTACH;FMTTYPE=image/jpeg:https://termine.lieslotte.de/wp-content/uploads/2023/10/Wertachbruecke_Augsburg_AdobeStock_342993081_wWeiss-Lichtspiele.jpg
END:VEVENT
BEGIN:VEVENT
DTSTART;TZID=Europe/Berlin:20260207T110000
DTEND;TZID=Europe/Berlin:20260207T143000
DTSTAMP:20260423T135120
CREATED:20260117T082246Z
LAST-MODIFIED:20260117T082246Z
UID:10022228-1770462000-1770474600@termine.lieslotte.de
SUMMARY:Saatgutbörse in der Stadtbücherei
DESCRIPTION:Die Saatgutbörse lädt dazu ein\, samenfestes Saatgut zu tauschen und sich rund ums ökologische Gärtnern zu informieren. Verschiedene Akteurinnen und Akteure geben Einblicke in naturnahes Gärtnern\, Streuobst und den Erhalt alter Pflanzensorten. \nNeben dem Austausch von Saatgut besteht auch die Möglichkeit\, Samen gegen eine Spende zu erwerben. \nIm Mittelpunkt stehen Wissen teilen\, Vielfalt bewahren und miteinander ins Gespräch kommen. Eine Veranstaltung für alle\, die sich für nachhaltiges Gärtnern interessieren und mit neuem Saatgut und frischen Ideen in die Gartensaison starten möchten. \n  \nFoto: AdobeStock /  fotoduets_web
URL:https://termine.lieslotte.de/event/saatgutboerse-in-der-stadtbuecherei/
LOCATION:Stadtbücherei Augsburg\, Ernst-Reuter-Platz 1\, Augsburg\, Deutschland
CATEGORIES:Flohmarkt,Natur + Tiere
ATTACH;FMTTYPE=image/jpeg:https://termine.lieslotte.de/wp-content/uploads/2025/01/Saatgut_AdobeStock_419994519_-fotoduets_web.jpg
END:VEVENT
BEGIN:VEVENT
DTSTART;TZID=Europe/Berlin:20260207T140000
DTEND;TZID=Europe/Berlin:20260207T163000
DTSTAMP:20260423T135120
CREATED:20260117T084155Z
LAST-MODIFIED:20260128T174722Z
UID:10022229-1770472800-1770481800@termine.lieslotte.de
SUMMARY:LPV-Kindersafari: „Tierisches“ Wintervergnügen | f. Fam.
DESCRIPTION:Auch im Winter ist die Natur voller Leben – man muss nur genau hinschauen. \nBei der LPV-Kindersafari geht es gemeinsam hinaus\, um Spuren von Tieren zu entdecken und Verborgenes in der winterlichen Landschaft aufzuspüren. Fußabdrücke im Schnee\, Fraßspuren oder andere Hinweise erzählen spannende Geschichten über Tiere\, die man selbst vielleicht gar nicht zu Gesicht bekommt. \nDer Spaziergang verbindet Bewegung an der frischen Luft mit Neugier und Naturwissen und lädt Kinder ab 6 Jhren und Erwachsene dazu ein\, die winterliche Umgebung aufmerksam und mit offenen Augen zu erkunden. \nEine Anmeldung ist erforderlich.\nAnmeldeschluss: 05.02.2026\nTelefon: 0821 3102 2852\nE-Mail: LPV@LRA-a.bayern.de \n  \nFoto: Feldsperling / lucaar.
URL:https://termine.lieslotte.de/event/lpv-kindersafari-tierisches-wintervergnuegen-f-fam-ab-6-j/
LOCATION:Parkplatz am Kindergarten Stadtbergen\, Reiterweg\, Stadtbergen\, 86391
CATEGORIES:Führung,Natur + Tiere
ATTACH;FMTTYPE=image/jpeg:https://termine.lieslotte.de/wp-content/uploads/2022/11/Tiere_Winter_AdobeStock_72893921_lucaar.jpg
END:VEVENT
BEGIN:VEVENT
DTSTART;TZID=Europe/Berlin:20260215T090000
DTEND;TZID=Europe/Berlin:20260215T103000
DTSTAMP:20260423T135120
CREATED:20260117T084814Z
LAST-MODIFIED:20260117T084814Z
UID:10022230-1771146000-1771151400@termine.lieslotte.de
SUMMARY:Vogelbeobachtung an der Futterstelle | f. Fam.
DESCRIPTION:An der Futterstelle lassen sich Vögel besonders gut beobachten – je nach Wetterlage und Jahreszeit zeigen sich unterschiedliche Arten. \nBei diesem Naturspaziergang steht das genaue Hinschauen im Mittelpunkt: Welche Vögel kommen\, wie verhalten sie sich und woran lassen sie sich erkennen? Ergänzt wird die Beobachtung durch praktische Tipps rund um geeignetes Vogelfutter und sinnvolle Futtergeräte. \nDie Veranstaltung verbindet ruhige Naturbeobachtung mit alltagstauglichem Wissen und richtet sich an alle\, die heimische Vogelwelt besser kennenlernen und bewusster unterstützen möchten. \nEine Anmeldung ist erforderlich.\nAnmeldeschluss: 11.02.2026\nTelefon: 0821 3246038 \n  \nFoto: AdobeStock / lucaar
URL:https://termine.lieslotte.de/event/vogelbeobachtung-an-der-futterstelle-f-fam/
LOCATION:Botanischer Garten Augsburg\, Dr.-Ziegenspeck-Weg 10\, Augsburg\, Bayern\, 86161\, DE
CATEGORIES:Führung,Natur + Tiere
ATTACH;FMTTYPE=image/jpeg:https://termine.lieslotte.de/wp-content/uploads/2022/11/Tiere_Winter_AdobeStock_72893921_lucaar.jpg
GEO:48.3497973;10.9122354
X-APPLE-STRUCTURED-LOCATION;VALUE=URI;X-ADDRESS=Botanischer Garten Augsburg Dr.-Ziegenspeck-Weg 10 Augsburg Bayern 86161 DE;X-APPLE-RADIUS=500;X-TITLE=Dr.-Ziegenspeck-Weg 10:geo:10.9122354,48.3497973
END:VEVENT
BEGIN:VEVENT
DTSTART;TZID=Europe/Berlin:20260221T140000
DTEND;TZID=Europe/Berlin:20260221T163000
DTSTAMP:20260423T135120
CREATED:20260126T103727Z
LAST-MODIFIED:20260128T185908Z
UID:10022617-1771682400-1771691400@termine.lieslotte.de
SUMMARY:Führung am Huisheimer Mähhorn | f. Fam.
DESCRIPTION:Bei einer Führung am Huisheimer Mähhorn erfahren Teilnehmende Wissenswertes über die besondere Landschaft\, ihre Geschichte und die dortige Tier- und Pflanzenwelt. \n3 € (K)\, 6 € (E)\nAnm.: seel.andreas@gmx.de \n  \nFoto: Marco Kleebauer
URL:https://termine.lieslotte.de/event/fuehrung-am-huisheimer-maehhorn-f-fam-4/
LOCATION:Parkplatz Gemeindeverwaltung Huisheim\, Hauptstr. 10\, Huisheim\, Deutschland
CATEGORIES:Führung,Natur + Tiere
ATTACH;FMTTYPE=image/jpeg:https://termine.lieslotte.de/wp-content/uploads/2023/09/Weitblick-ueber-den-Geopark-Ries_MarcoKleebauer_660x528.jpg
END:VEVENT
END:VCALENDAR