BEGIN:VCALENDAR
VERSION:2.0
PRODID:-//liesLotte - Familienmagazin für Augsburg, Schwaben, Allgäu. - ECPv6.15.20//NONSGML v1.0//EN
CALSCALE:GREGORIAN
METHOD:PUBLISH
X-WR-CALNAME:liesLotte - Familienmagazin für Augsburg, Schwaben, Allgäu.
X-ORIGINAL-URL:https://termine.lieslotte.de
X-WR-CALDESC:Veranstaltungen für liesLotte - Familienmagazin für Augsburg, Schwaben, Allgäu.
REFRESH-INTERVAL;VALUE=DURATION:PT1H
X-Robots-Tag:noindex
X-PUBLISHED-TTL:PT1H
BEGIN:VTIMEZONE
TZID:Europe/Berlin
BEGIN:DAYLIGHT
TZOFFSETFROM:+0100
TZOFFSETTO:+0200
TZNAME:CEST
DTSTART:20240331T010000
END:DAYLIGHT
BEGIN:STANDARD
TZOFFSETFROM:+0200
TZOFFSETTO:+0100
TZNAME:CET
DTSTART:20241027T010000
END:STANDARD
BEGIN:DAYLIGHT
TZOFFSETFROM:+0100
TZOFFSETTO:+0200
TZNAME:CEST
DTSTART:20250330T010000
END:DAYLIGHT
BEGIN:STANDARD
TZOFFSETFROM:+0200
TZOFFSETTO:+0100
TZNAME:CET
DTSTART:20251026T010000
END:STANDARD
BEGIN:DAYLIGHT
TZOFFSETFROM:+0100
TZOFFSETTO:+0200
TZNAME:CEST
DTSTART:20260329T010000
END:DAYLIGHT
BEGIN:STANDARD
TZOFFSETFROM:+0200
TZOFFSETTO:+0100
TZNAME:CET
DTSTART:20261025T010000
END:STANDARD
END:VTIMEZONE
BEGIN:VEVENT
DTSTART;TZID=Europe/Berlin:20250907T140000
DTEND;TZID=Europe/Berlin:20250907T160000
DTSTAMP:20260422T162845
CREATED:20250517T112331Z
LAST-MODIFIED:20260411T143149Z
UID:10015722-1757253600-1757260800@termine.lieslotte.de
SUMMARY:Imker*innengespräche am Bienenstock | f. alle
DESCRIPTION:Was passiert in einem Bienenstock – und wie wird aus Nektar eigentlich Honig? \nFachkundige Imker vom Zeidlerverein Nürnberg öffnen am hauseigenen Bienenstock des Erfahrungsfelds die spannende Welt der Honigbienen. \nEin Nachmittag für alle\, die schon immer mal genauer hinschauen wollten – und das regelmäßig: Der Termin findet mehrmals im Jahr statt. \nKeine Anmeldung erforderlich. \nWebseite hier klick\nMail hier klick \n  \n  \nFoto: AdobeStock / Darios
URL:https://termine.lieslotte.de/event/imkerinnengespraeche-bienenstock-erkunden-3/2025-09-07/
LOCATION:Erfahrungsfeld zur Entfaltung der Sinne\, Wöhrder Wiese\, Nürnberg\, 90489
CATEGORIES:Natur + Tiere
ATTACH;FMTTYPE=image/jpeg:https://termine.lieslotte.de/wp-content/uploads/2023/10/Bienen_Honig_AdobeStock_279813691_Darios.jpg
END:VEVENT
BEGIN:VEVENT
DTSTART;TZID=Europe/Berlin:20250824T140000
DTEND;TZID=Europe/Berlin:20250824T160000
DTSTAMP:20260422T162845
CREATED:20250517T112331Z
LAST-MODIFIED:20260411T143149Z
UID:10015721-1756044000-1756051200@termine.lieslotte.de
SUMMARY:Imker*innengespräche am Bienenstock | f. alle
DESCRIPTION:Was passiert in einem Bienenstock – und wie wird aus Nektar eigentlich Honig? \nFachkundige Imker vom Zeidlerverein Nürnberg öffnen am hauseigenen Bienenstock des Erfahrungsfelds die spannende Welt der Honigbienen. \nEin Nachmittag für alle\, die schon immer mal genauer hinschauen wollten – und das regelmäßig: Der Termin findet mehrmals im Jahr statt. \nKeine Anmeldung erforderlich. \nWebseite hier klick\nMail hier klick \n  \n  \nFoto: AdobeStock / Darios
URL:https://termine.lieslotte.de/event/imkerinnengespraeche-bienenstock-erkunden-3/2025-08-24/
LOCATION:Erfahrungsfeld zur Entfaltung der Sinne\, Wöhrder Wiese\, Nürnberg\, 90489
CATEGORIES:Natur + Tiere
ATTACH;FMTTYPE=image/jpeg:https://termine.lieslotte.de/wp-content/uploads/2023/10/Bienen_Honig_AdobeStock_279813691_Darios.jpg
END:VEVENT
BEGIN:VEVENT
DTSTART;TZID=Europe/Berlin:20250810T140000
DTEND;TZID=Europe/Berlin:20250810T160000
DTSTAMP:20260422T162845
CREATED:20250517T112331Z
LAST-MODIFIED:20260411T143149Z
UID:10015720-1754834400-1754841600@termine.lieslotte.de
SUMMARY:Imker*innengespräche am Bienenstock | f. alle
DESCRIPTION:Was passiert in einem Bienenstock – und wie wird aus Nektar eigentlich Honig? \nFachkundige Imker vom Zeidlerverein Nürnberg öffnen am hauseigenen Bienenstock des Erfahrungsfelds die spannende Welt der Honigbienen. \nEin Nachmittag für alle\, die schon immer mal genauer hinschauen wollten – und das regelmäßig: Der Termin findet mehrmals im Jahr statt. \nKeine Anmeldung erforderlich. \nWebseite hier klick\nMail hier klick \n  \n  \nFoto: AdobeStock / Darios
URL:https://termine.lieslotte.de/event/imkerinnengespraeche-bienenstock-erkunden-3/2025-08-10/
LOCATION:Erfahrungsfeld zur Entfaltung der Sinne\, Wöhrder Wiese\, Nürnberg\, 90489
CATEGORIES:Natur + Tiere
ATTACH;FMTTYPE=image/jpeg:https://termine.lieslotte.de/wp-content/uploads/2023/10/Bienen_Honig_AdobeStock_279813691_Darios.jpg
END:VEVENT
BEGIN:VEVENT
DTSTART;TZID=Europe/Berlin:20250727T140000
DTEND;TZID=Europe/Berlin:20250727T160000
DTSTAMP:20260422T162845
CREATED:20250517T112331Z
LAST-MODIFIED:20260411T143149Z
UID:10015719-1753624800-1753632000@termine.lieslotte.de
SUMMARY:Imker*innengespräche am Bienenstock | f. alle
DESCRIPTION:Was passiert in einem Bienenstock – und wie wird aus Nektar eigentlich Honig? \nFachkundige Imker vom Zeidlerverein Nürnberg öffnen am hauseigenen Bienenstock des Erfahrungsfelds die spannende Welt der Honigbienen. \nEin Nachmittag für alle\, die schon immer mal genauer hinschauen wollten – und das regelmäßig: Der Termin findet mehrmals im Jahr statt. \nKeine Anmeldung erforderlich. \nWebseite hier klick\nMail hier klick \n  \n  \nFoto: AdobeStock / Darios
URL:https://termine.lieslotte.de/event/imkerinnengespraeche-bienenstock-erkunden-3/2025-07-27/
LOCATION:Erfahrungsfeld zur Entfaltung der Sinne\, Wöhrder Wiese\, Nürnberg\, 90489
CATEGORIES:Natur + Tiere
ATTACH;FMTTYPE=image/jpeg:https://termine.lieslotte.de/wp-content/uploads/2023/10/Bienen_Honig_AdobeStock_279813691_Darios.jpg
END:VEVENT
BEGIN:VEVENT
DTSTART;TZID=Europe/Berlin:20250713T140000
DTEND;TZID=Europe/Berlin:20250713T160000
DTSTAMP:20260422T162845
CREATED:20250517T112331Z
LAST-MODIFIED:20260411T143149Z
UID:10015718-1752415200-1752422400@termine.lieslotte.de
SUMMARY:Imker*innengespräche am Bienenstock | f. alle
DESCRIPTION:Was passiert in einem Bienenstock – und wie wird aus Nektar eigentlich Honig? \nFachkundige Imker vom Zeidlerverein Nürnberg öffnen am hauseigenen Bienenstock des Erfahrungsfelds die spannende Welt der Honigbienen. \nEin Nachmittag für alle\, die schon immer mal genauer hinschauen wollten – und das regelmäßig: Der Termin findet mehrmals im Jahr statt. \nKeine Anmeldung erforderlich. \nWebseite hier klick\nMail hier klick \n  \n  \nFoto: AdobeStock / Darios
URL:https://termine.lieslotte.de/event/imkerinnengespraeche-bienenstock-erkunden-3/2025-07-13/
LOCATION:Erfahrungsfeld zur Entfaltung der Sinne\, Wöhrder Wiese\, Nürnberg\, 90489
CATEGORIES:Natur + Tiere
ATTACH;FMTTYPE=image/jpeg:https://termine.lieslotte.de/wp-content/uploads/2023/10/Bienen_Honig_AdobeStock_279813691_Darios.jpg
END:VEVENT
BEGIN:VEVENT
DTSTART;TZID=Europe/Berlin:20250615T140000
DTEND;TZID=Europe/Berlin:20250615T160000
DTSTAMP:20260422T162845
CREATED:20250517T112331Z
LAST-MODIFIED:20260411T143149Z
UID:10015717-1749996000-1750003200@termine.lieslotte.de
SUMMARY:Imker*innengespräche am Bienenstock | f. alle
DESCRIPTION:Was passiert in einem Bienenstock – und wie wird aus Nektar eigentlich Honig? \nFachkundige Imker vom Zeidlerverein Nürnberg öffnen am hauseigenen Bienenstock des Erfahrungsfelds die spannende Welt der Honigbienen. \nEin Nachmittag für alle\, die schon immer mal genauer hinschauen wollten – und das regelmäßig: Der Termin findet mehrmals im Jahr statt. \nKeine Anmeldung erforderlich. \nWebseite hier klick\nMail hier klick \n  \n  \nFoto: AdobeStock / Darios
URL:https://termine.lieslotte.de/event/imkerinnengespraeche-bienenstock-erkunden-3/2025-06-15/
LOCATION:Erfahrungsfeld zur Entfaltung der Sinne\, Wöhrder Wiese\, Nürnberg\, 90489
CATEGORIES:Natur + Tiere
ATTACH;FMTTYPE=image/jpeg:https://termine.lieslotte.de/wp-content/uploads/2023/10/Bienen_Honig_AdobeStock_279813691_Darios.jpg
END:VEVENT
BEGIN:VEVENT
DTSTART;TZID=Europe/Berlin:20250601T140000
DTEND;TZID=Europe/Berlin:20250601T160000
DTSTAMP:20260422T162845
CREATED:20250517T112331Z
LAST-MODIFIED:20260411T143149Z
UID:10015716-1748786400-1748793600@termine.lieslotte.de
SUMMARY:Imker*innengespräche am Bienenstock | f. alle
DESCRIPTION:Was passiert in einem Bienenstock – und wie wird aus Nektar eigentlich Honig? \nFachkundige Imker vom Zeidlerverein Nürnberg öffnen am hauseigenen Bienenstock des Erfahrungsfelds die spannende Welt der Honigbienen. \nEin Nachmittag für alle\, die schon immer mal genauer hinschauen wollten – und das regelmäßig: Der Termin findet mehrmals im Jahr statt. \nKeine Anmeldung erforderlich. \nWebseite hier klick\nMail hier klick \n  \n  \nFoto: AdobeStock / Darios
URL:https://termine.lieslotte.de/event/imkerinnengespraeche-bienenstock-erkunden-3/2025-06-01/
LOCATION:Erfahrungsfeld zur Entfaltung der Sinne\, Wöhrder Wiese\, Nürnberg\, 90489
CATEGORIES:Natur + Tiere
ATTACH;FMTTYPE=image/jpeg:https://termine.lieslotte.de/wp-content/uploads/2023/10/Bienen_Honig_AdobeStock_279813691_Darios.jpg
END:VEVENT
END:VCALENDAR