BEGIN:VCALENDAR
VERSION:2.0
PRODID:-//liesLotte - Familienmagazin für Augsburg, Schwaben, Allgäu. - ECPv6.15.20//NONSGML v1.0//EN
CALSCALE:GREGORIAN
METHOD:PUBLISH
X-WR-CALNAME:liesLotte - Familienmagazin für Augsburg, Schwaben, Allgäu.
X-ORIGINAL-URL:https://termine.lieslotte.de
X-WR-CALDESC:Veranstaltungen für liesLotte - Familienmagazin für Augsburg, Schwaben, Allgäu.
REFRESH-INTERVAL;VALUE=DURATION:PT1H
X-Robots-Tag:noindex
X-PUBLISHED-TTL:PT1H
BEGIN:VTIMEZONE
TZID:Europe/Berlin
BEGIN:DAYLIGHT
TZOFFSETFROM:+0100
TZOFFSETTO:+0200
TZNAME:CEST
DTSTART:20250330T010000
END:DAYLIGHT
BEGIN:STANDARD
TZOFFSETFROM:+0200
TZOFFSETTO:+0100
TZNAME:CET
DTSTART:20251026T010000
END:STANDARD
BEGIN:DAYLIGHT
TZOFFSETFROM:+0100
TZOFFSETTO:+0200
TZNAME:CEST
DTSTART:20260329T010000
END:DAYLIGHT
BEGIN:STANDARD
TZOFFSETFROM:+0200
TZOFFSETTO:+0100
TZNAME:CET
DTSTART:20261025T010000
END:STANDARD
BEGIN:DAYLIGHT
TZOFFSETFROM:+0100
TZOFFSETTO:+0200
TZNAME:CEST
DTSTART:20270328T010000
END:DAYLIGHT
BEGIN:STANDARD
TZOFFSETFROM:+0200
TZOFFSETTO:+0100
TZNAME:CET
DTSTART:20271031T010000
END:STANDARD
END:VTIMEZONE
BEGIN:VEVENT
DTSTART;TZID=Europe/Berlin:20260315T160000
DTEND;TZID=Europe/Berlin:20260315T160000
DTSTAMP:20260422T122253
CREATED:20260105T162927Z
LAST-MODIFIED:20260105T162927Z
UID:10021528-1773590400-1773590400@termine.lieslotte.de
SUMMARY:Marionettentheater: Wie Findus zu Petterson kam | ab 4 J.
DESCRIPTION:Ein alter Mann\, ein paar Hühner – und viel Stille. Doch dann zieht plötzlich ein kleiner Kater ein und bringt alles durcheinander. \nIn diesem Marionettentheater nach dem Bilderbuch von Wie Findus zu Pettersson kam wird erzählt\, wie aus einem einsamen Alltag eine echte Freundschaft entsteht. \nMit viel Musik\, feinem Humor und liebevoll geführten Figuren entfaltet sich eine Geschichte\, die berührt\, ohne laut zu sein. \nEin Theatererlebnis für Kinder und ihre Familien\, das zeigt\, wie sehr Nähe\, Zuwendung und ein bisschen Chaos das Leben heller machen können. \nFür Kinder unter 3 Jahren kein Einlass. \n  \nFoto:  Andreas Blersch
URL:https://termine.lieslotte.de/event/marionettentheater-wie-findus-zu-petterson-kam-ab-4-j/
LOCATION:Kapuziner-Halle\, Kapuzinerstr. 9 - 11\, Burgau\, Germany
CATEGORIES:Vortrag
ATTACH;FMTTYPE=image/jpeg:https://termine.lieslotte.de/wp-content/uploads/2026/01/2025.03.15_Wie-Petersson-zu-Findus-kam_@Andreas_Blersch.jpg
END:VEVENT
BEGIN:VEVENT
DTSTART;TZID=Europe/Berlin:20260228T200000
DTEND;TZID=Europe/Berlin:20260228T200000
DTSTAMP:20260422T122253
CREATED:20260105T162306Z
LAST-MODIFIED:20260105T162306Z
UID:10021527-1772308800-1772308800@termine.lieslotte.de
SUMMARY:Reisevortrag: 8Monate\, 2Kids\, 1Van – Wahnsinn oder Traum? | f. Erw.
DESCRIPTION:Acht Monate unterwegs\, mehr als 20.000 Kilometer auf der Panamericana und zwei kleine Kinder mit an Bord: In diesem Multimedia-Reisevortrag nehmen Tobi van Deisner und Wiebke Klein-Diesner ihr Publikum mit auf eine intensive Reise durch Südamerika. \nSie erzählen von spektakulären Landschaften zwischen Feuerland und Kolumbien\, von Begegnungen unterwegs – und von den ganz praktischen Herausforderungen\, die das Reisen als Familie mit sich bringt. \nEin Abend\, der Fernweh weckt\, zum Schmunzeln bringt und zeigt\, dass Abenteuer auch mit Kindern möglich sind. \n  \nFoto: AdobeStock / Kaplitskaya Love
URL:https://termine.lieslotte.de/event/reisevortrag-8monate-2kids-1van-wahnsinn-oder-traum-f-erw/
LOCATION:Kapuziner-Halle\, Kapuzinerstr. 9 - 11\, Burgau\, Germany
CATEGORIES:Vortrag
ATTACH;FMTTYPE=image/jpeg:https://termine.lieslotte.de/wp-content/uploads/2025/04/Familie_AdobeStock_1086373530_Kaplitskaya-Love.jpg
END:VEVENT
END:VCALENDAR