BEGIN:VCALENDAR
VERSION:2.0
PRODID:-//liesLotte - Familienmagazin für Augsburg, Schwaben, Allgäu. - ECPv6.15.20//NONSGML v1.0//EN
CALSCALE:GREGORIAN
METHOD:PUBLISH
X-WR-CALNAME:liesLotte - Familienmagazin für Augsburg, Schwaben, Allgäu.
X-ORIGINAL-URL:https://termine.lieslotte.de
X-WR-CALDESC:Veranstaltungen für liesLotte - Familienmagazin für Augsburg, Schwaben, Allgäu.
REFRESH-INTERVAL;VALUE=DURATION:PT1H
X-Robots-Tag:noindex
X-PUBLISHED-TTL:PT1H
BEGIN:VTIMEZONE
TZID:Europe/Berlin
BEGIN:DAYLIGHT
TZOFFSETFROM:+0100
TZOFFSETTO:+0200
TZNAME:CEST
DTSTART:20230326T010000
END:DAYLIGHT
BEGIN:STANDARD
TZOFFSETFROM:+0200
TZOFFSETTO:+0100
TZNAME:CET
DTSTART:20231029T010000
END:STANDARD
BEGIN:DAYLIGHT
TZOFFSETFROM:+0100
TZOFFSETTO:+0200
TZNAME:CEST
DTSTART:20240331T010000
END:DAYLIGHT
BEGIN:STANDARD
TZOFFSETFROM:+0200
TZOFFSETTO:+0100
TZNAME:CET
DTSTART:20241027T010000
END:STANDARD
BEGIN:DAYLIGHT
TZOFFSETFROM:+0100
TZOFFSETTO:+0200
TZNAME:CEST
DTSTART:20250330T010000
END:DAYLIGHT
BEGIN:STANDARD
TZOFFSETFROM:+0200
TZOFFSETTO:+0100
TZNAME:CET
DTSTART:20251026T010000
END:STANDARD
END:VTIMEZONE
BEGIN:VEVENT
DTSTART;TZID=Europe/Berlin:20240923T193000
DTEND;TZID=Europe/Berlin:20240923T220000
DTSTAMP:20260422T121700
CREATED:20240729T104748Z
LAST-MODIFIED:20240729T104748Z
UID:10010556-1727119800-1727128800@termine.lieslotte.de
SUMMARY:Vortrag: Ökologische Umkehr: Impulse für eine Schöpfungsverantwortung im 21. Jhdt.
DESCRIPTION:Vortrag mit Gespräch.\nohne Anm.\n12 € (E) \nFoto: AdobeStock_Feel-good-studio
URL:https://termine.lieslotte.de/event/vortrag-oekologische-umkehr-impulse-fuer-eine-schoepfungsverantwortung-im-21-jhdt/
LOCATION:Bücherei Mering\, Bachstr. 1\, Mering\, Deutschland
CATEGORIES:Vortrag
ATTACH;FMTTYPE=image/jpeg:https://termine.lieslotte.de/wp-content/uploads/2023/09/Vortrag_AdobeStock_221196697_Feel-good-studio_660x528.jpg
END:VEVENT
BEGIN:VEVENT
DTSTART;TZID=Europe/Berlin:20240829T160000
DTEND;TZID=Europe/Berlin:20240829T170000
DTSTAMP:20260422T121700
CREATED:20240610T103206Z
LAST-MODIFIED:20240610T103206Z
UID:10009877-1724947200-1724950800@termine.lieslotte.de
SUMMARY:Phantastische Geschichten\, Märchen und Sagen in der Bücherei  ab 3 J.
DESCRIPTION:Magie von Geschichten aus aller Welt.\nohne Anm.\nSpende \nFoto: Bücherei Mering
URL:https://termine.lieslotte.de/event/phantastische-geschichten-maerchen-und-sagen-in-der-buecherei-ab-3-j-2/2024-08-29/
LOCATION:Bücherei Mering\, Bachstr. 1\, Mering\, Deutschland
CATEGORIES:Medien + Bücher
ATTACH;FMTTYPE=image/jpeg:https://termine.lieslotte.de/wp-content/uploads/2023/07/IKM-Maerchen-Buecherei2023.jpg
END:VEVENT
BEGIN:VEVENT
DTSTART;TZID=Europe/Berlin:20240822T160000
DTEND;TZID=Europe/Berlin:20240822T170000
DTSTAMP:20260422T121700
CREATED:20240610T103206Z
LAST-MODIFIED:20240610T103206Z
UID:10009876-1724342400-1724346000@termine.lieslotte.de
SUMMARY:Phantastische Geschichten\, Märchen und Sagen in der Bücherei  ab 3 J.
DESCRIPTION:Magie von Geschichten aus aller Welt.\nohne Anm.\nSpende \nFoto: Bücherei Mering
URL:https://termine.lieslotte.de/event/phantastische-geschichten-maerchen-und-sagen-in-der-buecherei-ab-3-j-2/2024-08-22/
LOCATION:Bücherei Mering\, Bachstr. 1\, Mering\, Deutschland
CATEGORIES:Medien + Bücher
ATTACH;FMTTYPE=image/jpeg:https://termine.lieslotte.de/wp-content/uploads/2023/07/IKM-Maerchen-Buecherei2023.jpg
END:VEVENT
BEGIN:VEVENT
DTSTART;TZID=Europe/Berlin:20240808T160000
DTEND;TZID=Europe/Berlin:20240808T170000
DTSTAMP:20260422T121700
CREATED:20240610T103206Z
LAST-MODIFIED:20240610T103206Z
UID:10009875-1723132800-1723136400@termine.lieslotte.de
SUMMARY:Phantastische Geschichten\, Märchen und Sagen in der Bücherei  ab 3 J.
DESCRIPTION:Magie von Geschichten aus aller Welt.\nohne Anm.\nSpende \nFoto: Bücherei Mering
URL:https://termine.lieslotte.de/event/phantastische-geschichten-maerchen-und-sagen-in-der-buecherei-ab-3-j-2/2024-08-08/
LOCATION:Bücherei Mering\, Bachstr. 1\, Mering\, Deutschland
CATEGORIES:Medien + Bücher
ATTACH;FMTTYPE=image/jpeg:https://termine.lieslotte.de/wp-content/uploads/2023/07/IKM-Maerchen-Buecherei2023.jpg
END:VEVENT
BEGIN:VEVENT
DTSTART;TZID=Europe/Berlin:20240801T160000
DTEND;TZID=Europe/Berlin:20240801T170000
DTSTAMP:20260422T121700
CREATED:20240610T103206Z
LAST-MODIFIED:20240610T103206Z
UID:10009874-1722528000-1722531600@termine.lieslotte.de
SUMMARY:Phantastische Geschichten\, Märchen und Sagen in der Bücherei  ab 3 J.
DESCRIPTION:Magie von Geschichten aus aller Welt.\nohne Anm.\nSpende \nFoto: Bücherei Mering
URL:https://termine.lieslotte.de/event/phantastische-geschichten-maerchen-und-sagen-in-der-buecherei-ab-3-j-2/2024-08-01/
LOCATION:Bücherei Mering\, Bachstr. 1\, Mering\, Deutschland
CATEGORIES:Medien + Bücher
ATTACH;FMTTYPE=image/jpeg:https://termine.lieslotte.de/wp-content/uploads/2023/07/IKM-Maerchen-Buecherei2023.jpg
END:VEVENT
END:VCALENDAR