BEGIN:VCALENDAR
VERSION:2.0
PRODID:-//liesLotte - Familienmagazin für Augsburg, Schwaben, Allgäu. - ECPv6.15.20//NONSGML v1.0//EN
CALSCALE:GREGORIAN
METHOD:PUBLISH
X-WR-CALNAME:liesLotte - Familienmagazin für Augsburg, Schwaben, Allgäu.
X-ORIGINAL-URL:https://termine.lieslotte.de
X-WR-CALDESC:Veranstaltungen für liesLotte - Familienmagazin für Augsburg, Schwaben, Allgäu.
REFRESH-INTERVAL;VALUE=DURATION:PT1H
X-Robots-Tag:noindex
X-PUBLISHED-TTL:PT1H
BEGIN:VTIMEZONE
TZID:Europe/Berlin
BEGIN:DAYLIGHT
TZOFFSETFROM:+0100
TZOFFSETTO:+0200
TZNAME:CEST
DTSTART:20250330T010000
END:DAYLIGHT
BEGIN:STANDARD
TZOFFSETFROM:+0200
TZOFFSETTO:+0100
TZNAME:CET
DTSTART:20251026T010000
END:STANDARD
BEGIN:DAYLIGHT
TZOFFSETFROM:+0100
TZOFFSETTO:+0200
TZNAME:CEST
DTSTART:20260329T010000
END:DAYLIGHT
BEGIN:STANDARD
TZOFFSETFROM:+0200
TZOFFSETTO:+0100
TZNAME:CET
DTSTART:20261025T010000
END:STANDARD
BEGIN:DAYLIGHT
TZOFFSETFROM:+0100
TZOFFSETTO:+0200
TZNAME:CEST
DTSTART:20270328T010000
END:DAYLIGHT
BEGIN:STANDARD
TZOFFSETFROM:+0200
TZOFFSETTO:+0100
TZNAME:CET
DTSTART:20271031T010000
END:STANDARD
END:VTIMEZONE
BEGIN:VEVENT
DTSTART;TZID=Europe/Berlin:20260606T140000
DTEND;TZID=Europe/Berlin:20260606T235900
DTSTAMP:20260423T134838
CREATED:20260407T153733Z
LAST-MODIFIED:20260407T153733Z
UID:10023948-1780754400-1780790340@termine.lieslotte.de
SUMMARY:Der grüne Salon: verweilen - spielen - staunen | f. alle
DESCRIPTION:Ein Sommertag im Atelier – zum Verweilen\, Staunen und Begegnen. Im Garten und Atelier warten Kunstaktionen zum Mitmachen und Betrachten\, Kaffee\, Kuchen und abends Suppe am Lagerfeuer. \nDas Konzept knüpft an die Salonkultur des letzten Jahrhunderts an: ein offener Raum für respektvolle Begegnungen\, gemeinsames Schaffen und inspirierende Momente. \nWer kommt\, entscheidet selbst\, wie lange er bleibt – und was daraus wird. \nKeine Anmeldung erforderlich. \n  \nFoto: Susanne Dörfler
URL:https://termine.lieslotte.de/event/der-gruene-salon-verweilen-spielen-staunen-f-alle/
LOCATION:Praxis für Gestalt-Kunsttherapie und Atelier\, Jagdweg 6\, Augsburg\, 86169
CATEGORIES:Kreativität,Show + Event
ATTACH;FMTTYPE=image/jpeg:https://termine.lieslotte.de/wp-content/uploads/2026/04/Gruener-Salon_Praxis-fuer-Gestalt-Kunsttherapie-und-Atelier_Susanne-Doerfler.jpg
END:VEVENT
BEGIN:VEVENT
DTSTART;TZID=Europe/Berlin:20260704T190000
DTEND;TZID=Europe/Berlin:20260704T190000
DTSTAMP:20260423T134838
CREATED:20260407T154431Z
LAST-MODIFIED:20260407T154431Z
UID:10023949-1783191600-1783191600@termine.lieslotte.de
SUMMARY:Lange Sommernacht im Atelier | f. Erw.
DESCRIPTION:Wenn andere schlafen\, wird hier noch gearbeitet – kreativ\, frei und mit einem Buffet. \nDie Lange Sommernacht beginnt mit einer gemeinsamen Einstimmung\, danach folgt individuelles Arbeiten mit einem breiten Materialangebot – begleitet\, aber ohne Vorgabe. \nWer früh fertig ist\, geht früher. Wer im Rausch bleibt\, hält durch bis zum Morgengrauen. Ein Nachtformat für alle\, die Kreativität in ungewöhnlicher Umgebung erleben wollen. \nAnmeldung erforderlich bis 30.06.2026 unter: 0821-45045168 oder susannedoerfler@bayern-mail.de \n80 € pro Person inkl. Buffet\, Material nach Verbrauch \n  \nFoto: Susanne Dörfler
URL:https://termine.lieslotte.de/event/lange-sommernacht-im-atelier-f-erw/
LOCATION:Praxis für Gestalt-Kunsttherapie und Atelier\, Jagdweg 6\, Augsburg\, 86169
CATEGORIES:Kreativität,Show + Event
ATTACH;FMTTYPE=image/jpeg:https://termine.lieslotte.de/wp-content/uploads/2026/04/Lange-Sommernacht_Praxis-fuer-Gestalt-Kunsttherapie-und-Atelier_Susanne-Doerfler.jpg
END:VEVENT
BEGIN:VEVENT
DTSTART;TZID=Europe/Berlin:20260711T150000
DTEND;TZID=Europe/Berlin:20260711T180000
DTSTAMP:20260423T134838
CREATED:20260407T155721Z
LAST-MODIFIED:20260407T155721Z
UID:10023950-1783782000-1783792800@termine.lieslotte.de
SUMMARY:Workshop: Meine Erinnerung – kostbare autobiografische Schätze | ab 14 J.
DESCRIPTION:Erinnerungen sind kein Archiv – sie sind lebendiger Stoff. \nIn diesem Seminar mit Gastdozentin Cornelia Benesch\, Diplom-Journalistin\, schreiben Teilnehmer ab 14 Jahren die Chronik ihres eigenen Lebens. Was war prägend? Was wurde vergessen\, was verdrängt? \nEin handwerklich-literarisches Format\, das jede Generation anspricht und den Blick auf das eigene Leben neu schärft. \nKeine Anmeldung erforderlich. \nKontakt und Rückfragen: cornelia.benesch@t-online.de oder 01515 9032439. \n  \nFoto: Susanne Dörfler
URL:https://termine.lieslotte.de/event/workshop-meine-erinnerung-kostbare-autobiografische-schaetze-ab-14-j/
LOCATION:Praxis für Gestalt-Kunsttherapie und Atelier\, Jagdweg 6\, Augsburg\, 86169
CATEGORIES:Kreativität,Kurs
ATTACH;FMTTYPE=image/jpeg:https://termine.lieslotte.de/wp-content/uploads/2026/04/Gruener-Salon-Susanne-Doerfler-2-1.jpg
END:VEVENT
BEGIN:VEVENT
DTSTART;TZID=Europe/Berlin:20260801T093000
DTEND;TZID=Europe/Berlin:20260802T180000
DTSTAMP:20260423T134838
CREATED:20260407T160203Z
LAST-MODIFIED:20260407T160203Z
UID:10023951-1785576600-1785693600@termine.lieslotte.de
SUMMARY:Workshop: Textile Kunst im Sommeratelier | f. Erw.
DESCRIPTION:Nähen\, Flechten\, Sticken – Textilien sind eines der ältesten kreativen Medien überhaupt. \nIn diesem zweitägigen Workshop im Atelier können Teilnehmer mit textilen Techniken und Materialien ein individuelles Kunstprojekt entwickeln. Keine Vorgabe\, kein Ergebnis auf Bestellung – sondern ein offenes Arbeiten mit persönlicher Begleitung. Wer schon immer mal mehr aus Stoff machen wollte\, als es die Nähmaschine vorgibt\, ist hier richtig. \nAnmeldung erforderlich bis eine Woche vor dem Termin unter: 0821-45045168 oder susannedoerfler@bayern-mail.de \n  \nFoto: Susanne Dörfler
URL:https://termine.lieslotte.de/event/workshop-textile-kunst-im-sommeratelier-f-erw/
LOCATION:Praxis für Gestalt-Kunsttherapie und Atelier\, Jagdweg 6\, Augsburg\, 86169
CATEGORIES:Kreativität,Kurs
ATTACH;FMTTYPE=image/jpeg:https://termine.lieslotte.de/wp-content/uploads/2026/04/Textilkunst_Praxis-fuer-Gestalt-Kunsttherapie-und-Atelier_Susanne-Doerfler.jpg
END:VEVENT
BEGIN:VEVENT
DTSTART;TZID=Europe/Berlin:20261120T150000
DTEND;TZID=Europe/Berlin:20261122T140000
DTSTAMP:20260423T134838
CREATED:20260407T161023Z
LAST-MODIFIED:20260407T161023Z
UID:10023952-1795186800-1795356000@termine.lieslotte.de
SUMMARY:Seminar: Selbst-Sabotage | f. Erw.
DESCRIPTION:Warum kommen wir nie zu dem\, was uns wirklich wichtig wäre? \nDieses dreitägige Wochenendseminar geht der eigenen Blockade auf den Grund – spielerisch\, aber ohne Ausweichen. Mit kunsttherapeutischen Methoden werden Muster der Selbstsabotage sichtbar gemacht und die freiwerdende Energie produktiv genutzt. \nEin Format für alle\, die genug davon haben\, sich selbst im Weg zu stehen. \nFreitag 20.11.2026 (15–19 Uhr)\, Samstag 21.11.2026 (9:30–19 Uhr)\, Sonntag 22.11.2026 (9:30–14 Uhr) \nAnmeldung erforderlich bis eine Woche vor dem Termin unter: 0821-45045168 oder susannedoerfler@bayern-mail.de \n  \nFoto: Susanne Dörfler
URL:https://termine.lieslotte.de/event/seminar-selbst-sabotage-f-erw/
LOCATION:Praxis für Gestalt-Kunsttherapie und Atelier\, Jagdweg 6\, Augsburg\, 86169
CATEGORIES:Kurs
ATTACH;FMTTYPE=image/jpeg:https://termine.lieslotte.de/wp-content/uploads/2026/04/Selbstsabotage_Praxis-fuer-Gestalt-Kunsttherapie-und-Atelier_Susanne-Doerfler.jpg
END:VEVENT
BEGIN:VEVENT
DTSTART;TZID=Europe/Berlin:20261204T150000
DTEND;TZID=Europe/Berlin:20261206T140000
DTSTAMP:20260423T134838
CREATED:20260407T161349Z
LAST-MODIFIED:20260407T161502Z
UID:10023953-1796396400-1796565600@termine.lieslotte.de
SUMMARY:Seminar: „War das schon alles?" | f. Erw.
DESCRIPTION:Das Leben\, das man sich eingerichtet hat\, ist nur eines von vielen möglichen – was ist mit den anderen? \nDieses dreitägige Wochenendseminar lädt ein\, ungelebten Potenzialen nachzuspüren: Was wurde bei jeder Entscheidung liegengelassen? Welche Möglichkeiten schlummern noch? \nMit kunsttherapeutischen Methoden werden verborgene Lebensentwürfe sichtbar – nicht als Vorwurf\, sondern als Einladung. \nFreitag 04.12.2026 (15–19 Uhr)\, Samstag 05.12.2026 (9:30–19 Uhr)\, Sonntag 06.12.2026 (9:30–14 Uhr) \nAnmeldung erforderlich bis eine Woche vor dem Termin unter: 0821-45045168 oder susannedoerfler@bayern-mail.de \n  \nFoto: Susanne Dörfler
URL:https://termine.lieslotte.de/event/seminar-war-das-schon-alles-f-erw/
LOCATION:Praxis für Gestalt-Kunsttherapie und Atelier\, Jagdweg 6\, Augsburg\, 86169
CATEGORIES:Kurs
ATTACH;FMTTYPE=image/jpeg:https://termine.lieslotte.de/wp-content/uploads/2026/04/War-das-schon-alles_Praxis-fuer-Gestalt-Kunsttherapie-und-Atelier_Susanne-Doerfler.jpg
END:VEVENT
BEGIN:VEVENT
DTSTART;TZID=Europe/Berlin:20261218T150000
DTEND;TZID=Europe/Berlin:20261220T140000
DTSTAMP:20260423T134838
CREATED:20260407T161839Z
LAST-MODIFIED:20260407T161839Z
UID:10023954-1797606000-1797775200@termine.lieslotte.de
SUMMARY:Seminar: Märchen und Mythen | f. Erw.
DESCRIPTION:Drachen\, Zauberer\, gute Feen – was klingt wie Kinderlektüre\, ist ein Spiegel des Lebens. \nDieses dreitägige Wochenendseminar nutzt Bilder und Symbole aus Märchen und Mythen\, um den eigenen Alltag neu zu betrachten: Wo lauern Hindernisse? Was ist der Preis für das\, was man will? \nEin Spiel mit altbekannten Mustern\, aus dem Neues entsteht – kunsttherapeutisch begleitet. \nFreitag 18.12.2026 (15–19 Uhr)\, Samstag 19.12.2026 (9:30–19 Uhr)\, Sonntag 20.12.2026 (9:30–14 Uhr) \nAnmeldung erforderlich bis eine Woche vor dem Termin unter: 0821-45045168 oder susannedoerfler@bayern-mail.de \n  \nFoto: Susanne Dörfler
URL:https://termine.lieslotte.de/event/seminar-maerchen-und-mythen-f-erw/
LOCATION:Praxis für Gestalt-Kunsttherapie und Atelier\, Jagdweg 6\, Augsburg\, 86169
CATEGORIES:Kurs
ATTACH;FMTTYPE=image/jpeg:https://termine.lieslotte.de/wp-content/uploads/2026/04/Maerchen-und-Mythen_Praxis-fuer-Gestalt-Kunsttherapie-und-Atelier_Susanne-Doerfler.jpg
END:VEVENT
END:VCALENDAR