BEGIN:VCALENDAR
VERSION:2.0
PRODID:-//liesLotte - Familienmagazin für Augsburg, Schwaben, Allgäu. - ECPv6.15.20//NONSGML v1.0//EN
CALSCALE:GREGORIAN
METHOD:PUBLISH
X-ORIGINAL-URL:https://termine.lieslotte.de
X-WR-CALDESC:Veranstaltungen für liesLotte - Familienmagazin für Augsburg, Schwaben, Allgäu.
REFRESH-INTERVAL;VALUE=DURATION:PT1H
X-Robots-Tag:noindex
X-PUBLISHED-TTL:PT1H
BEGIN:VTIMEZONE
TZID:Europe/Berlin
BEGIN:DAYLIGHT
TZOFFSETFROM:+0100
TZOFFSETTO:+0200
TZNAME:CEST
DTSTART:20250330T010000
END:DAYLIGHT
BEGIN:STANDARD
TZOFFSETFROM:+0200
TZOFFSETTO:+0100
TZNAME:CET
DTSTART:20251026T010000
END:STANDARD
BEGIN:DAYLIGHT
TZOFFSETFROM:+0100
TZOFFSETTO:+0200
TZNAME:CEST
DTSTART:20260329T010000
END:DAYLIGHT
BEGIN:STANDARD
TZOFFSETFROM:+0200
TZOFFSETTO:+0100
TZNAME:CET
DTSTART:20261025T010000
END:STANDARD
BEGIN:DAYLIGHT
TZOFFSETFROM:+0100
TZOFFSETTO:+0200
TZNAME:CEST
DTSTART:20270328T010000
END:DAYLIGHT
BEGIN:STANDARD
TZOFFSETFROM:+0200
TZOFFSETTO:+0100
TZNAME:CET
DTSTART:20271031T010000
END:STANDARD
END:VTIMEZONE
BEGIN:VEVENT
DTSTART;TZID=Europe/Berlin:20260612T160000
DTEND;TZID=Europe/Berlin:20260612T183000
DTSTAMP:20260422T110047
CREATED:20260420T090230Z
LAST-MODIFIED:20260420T090331Z
UID:10024269-1781280000-1781289000@termine.lieslotte.de
SUMMARY:Schloss on fire: Kinderdisco | bis 11 J. (+ Erw.)
DESCRIPTION:Spiel\, Spaß und Aktion für die Kleinen mit dem Team Kulturschloss Höchstädt: DJ Samed – DJ Ruster \nHighlights:\n– Candy Bar der Faschingsgesellschaft “Schlossfinken”\n– Mocktail bar der Kolpingfamilie Höchstädt\n– Snacks & Herzhaftes der SSV Höchstädt\, Abt. Fußball und dem Schlosscafé Höchstädt\n– Instrumente ausprobieren mit dem Donauklang \nSchnapp die eine “Schnelle Brille”! Jeweils die ersten 50 Gäste erhalten eine Gratis Brille – früh da sein lohnt sich! \nbis 11 Jahre nur mit Aufsichtsperson (Eintritt 2\,00 EUR)\nEinlass ab 15.30 Uhr \n4 € (K)\nVVK 5. bis 24. Mai\nVVK-Stellen:\n– Rathaus Höchstädt\, Zimmer 12 + 13\, Mo\, Di\, Do + Fr 8:15 bis 12:00 Uhr\, Di 14:00 bis 16:00 Uhr\, Do 14:00 bis 18:00 Uhr\n– Geschäftsstelle SSV Höchstädt\, Di und Do 17:00 bis 19:00 Uhr \nFoto: AdobeStock_-stenkovlad
URL:https://termine.lieslotte.de/event/https-hoechstaedt-bezirk-schwaben-de-aktuelles-presse-alle-veranstaltungen-kinderdisco/
LOCATION:Schloss Höchstädt\, Herzogin-Anna-Str. 52\, Höchstädt\, Deutschland
CATEGORIES:Show + Event
ATTACH;FMTTYPE=image/jpeg:https://termine.lieslotte.de/wp-content/uploads/2022/11/Disko_Party_AdobeStock_-stenkovlad.jpg
END:VEVENT
BEGIN:VEVENT
DTSTART;TZID=Europe/Berlin:20260612T190000
DTEND;TZID=Europe/Berlin:20260612T220000
DTSTAMP:20260422T110047
CREATED:20260420T090717Z
LAST-MODIFIED:20260420T090717Z
UID:10024270-1781290800-1781301600@termine.lieslotte.de
SUMMARY:Schloss on fire: Jugenddisco | 12 - 17 J.
DESCRIPTION:Coole Beats\, gute Stimmung und jede Menge Spaß!: DJ Samed – DJ Ruster \nHighlights:\n– Candy Bar der Faschingsgesellschaft “Schlossfinken”\n– Mocktail bar der Kolpingfamilie Höchstädt\n– Snacks & Herzhaftes der SSV Höchstädt\, Abt. Fußball und dem Schlosscafé Höchstädt\n– Instrumente ausprobieren mit dem Donauklang \nSchnapp die eine “Schnelle Brille”! Jeweils die ersten 50 Gäste erhalten eine Gratis Brille – früh da sein lohnt sich! \nEinlass ab 19 Uhr \n4 € (K)\nVVK 5. bis 24. Mai\nVVK-Stellen:\n– Rathaus Höchstädt\, Zimmer 12 + 13\, Mo\, Di\, Do + Fr 8:15 bis 12:00 Uhr\, Di 14:00 bis 16:00 Uhr\, Do 14:00 bis 18:00 Uhr\n– Geschäftsstelle SSV Höchstädt\, Di und Do 17:00 bis 19:00 Uhr \nFoto: AdobeStock_-stenkovlad
URL:https://termine.lieslotte.de/event/schloss-on-fire-jugenddisco-12-17-j/
LOCATION:Schloss Höchstädt\, Herzogin-Anna-Str. 52\, Höchstädt\, Deutschland
CATEGORIES:Show + Event
ATTACH;FMTTYPE=image/jpeg:https://termine.lieslotte.de/wp-content/uploads/2022/11/Disko_Party_AdobeStock_-stenkovlad.jpg
END:VEVENT
END:VCALENDAR