BEGIN:VCALENDAR
VERSION:2.0
PRODID:-//liesLotte - Familienmagazin für Augsburg, Schwaben, Allgäu. - ECPv6.15.20//NONSGML v1.0//EN
CALSCALE:GREGORIAN
METHOD:PUBLISH
X-ORIGINAL-URL:https://termine.lieslotte.de
X-WR-CALDESC:Veranstaltungen für liesLotte - Familienmagazin für Augsburg, Schwaben, Allgäu.
REFRESH-INTERVAL;VALUE=DURATION:PT1H
X-Robots-Tag:noindex
X-PUBLISHED-TTL:PT1H
BEGIN:VTIMEZONE
TZID:Europe/Berlin
BEGIN:DAYLIGHT
TZOFFSETFROM:+0100
TZOFFSETTO:+0200
TZNAME:CEST
DTSTART:20250330T010000
END:DAYLIGHT
BEGIN:STANDARD
TZOFFSETFROM:+0200
TZOFFSETTO:+0100
TZNAME:CET
DTSTART:20251026T010000
END:STANDARD
BEGIN:DAYLIGHT
TZOFFSETFROM:+0100
TZOFFSETTO:+0200
TZNAME:CEST
DTSTART:20260329T010000
END:DAYLIGHT
BEGIN:STANDARD
TZOFFSETFROM:+0200
TZOFFSETTO:+0100
TZNAME:CET
DTSTART:20261025T010000
END:STANDARD
BEGIN:DAYLIGHT
TZOFFSETFROM:+0100
TZOFFSETTO:+0200
TZNAME:CEST
DTSTART:20270328T010000
END:DAYLIGHT
BEGIN:STANDARD
TZOFFSETFROM:+0200
TZOFFSETTO:+0100
TZNAME:CET
DTSTART:20271031T010000
END:STANDARD
END:VTIMEZONE
BEGIN:VEVENT
DTSTART;TZID=Europe/Berlin:20260412T130000
DTEND;TZID=Europe/Berlin:20260412T170000
DTSTAMP:20260422T175922
CREATED:20250303T155826Z
LAST-MODIFIED:20260215T112025Z
UID:10022982-1775998800-1776013200@termine.lieslotte.de
SUMMARY:Stadtspaziergang für Frauen: „Auf den Spuren der Göttin“
DESCRIPTION:Was hat der Perlach mit Bären zu tun? Welche alte Bedeutung steckt eigentlich hinter der Zirbelnuss? Und wo schwebt die Stadtgöttin Cisa unerkannt über den Stadttürmen in lufter Höhe? \nUnsere Heimatstadt Augsburg ist reich an Kulturschätzen aus uralter Zeit. Aber heute interessieren uns nicht die allseits gefeierten Römer. \nWir begeben uns auf eine besondere Spurensuche zu vorchristlichen Kultplätzen\, die das Gesicht der alten Göttin tragen und die von den Ursprüngen unserer europäischen Geschichte und Kultur zeugen\, als das Weibliche noch heilig war und verehrt wurde. Viel Magisches ist aus dieser Zeit noch immer zu entdecken. \nAuf unserem Stadtspaziergang \n\nentdecken wir heilige Hügel\nwandeln auf dem uralten Kultweg zwischen St. Afra und Dom\nschauen hinter die Fassaden der Kirchen und\nerfahren die vergessene Bedeutung archaischer\, weiblicher Symbole und Flurnamen.\n\nUnd natürlich treffen wir viele alte Göttinnen\, die in Augsburg noch – teilweise – im Verborgenen schlummern. \nLeitung: Uta Börger\nDer Stadtrundgang ist Ergebnis ihrer Forschungsarbeit im Rahmen ihrer Ausbildung „Matriarchale Landschaftsmythologie“. \nTreffpunkt: an den Stufen\, am Platz vor der Basilika St. Ulrich und Afra\nNur für Frauen\nEnergieausgleich: 55 Euro\nAnmeldung\nTeilnahmebedingungen\n \nBitte wetterfeste Kleidung mitbringen. \nBei Teilnahme an dieser Veranstaltung sollten die Teilnehmerinnen offen sein für Kirchen- und Patriarchatskritik. \n  \n 
URL:https://termine.lieslotte.de/event/stadtspaziergang-fuer-frauen-auf-den-spuren-der-goettin-3/2026-04-12/
LOCATION:St. Afra Augsburg\, Augsburg\, Germany
CATEGORIES:Vortrag
ATTACH;FMTTYPE=image/jpeg:https://termine.lieslotte.de/wp-content/uploads/2025/01/Einfuehrung_ins_Matriarchat_Uta_Boerger-3_.jpg
END:VEVENT
BEGIN:VEVENT
DTSTART;TZID=Europe/Berlin:20260329T130000
DTEND;TZID=Europe/Berlin:20260329T170000
DTSTAMP:20260422T175922
CREATED:20250303T155826Z
LAST-MODIFIED:20260215T112025Z
UID:10014358-1774789200-1774803600@termine.lieslotte.de
SUMMARY:Stadtspaziergang für Frauen: „Auf den Spuren der Göttin“
DESCRIPTION:Was hat der Perlach mit Bären zu tun? Welche alte Bedeutung steckt eigentlich hinter der Zirbelnuss? Und wo schwebt die Stadtgöttin Cisa unerkannt über den Stadttürmen in lufter Höhe? \nUnsere Heimatstadt Augsburg ist reich an Kulturschätzen aus uralter Zeit. Aber heute interessieren uns nicht die allseits gefeierten Römer. \nWir begeben uns auf eine besondere Spurensuche zu vorchristlichen Kultplätzen\, die das Gesicht der alten Göttin tragen und die von den Ursprüngen unserer europäischen Geschichte und Kultur zeugen\, als das Weibliche noch heilig war und verehrt wurde. Viel Magisches ist aus dieser Zeit noch immer zu entdecken. \nAuf unserem Stadtspaziergang \n\nentdecken wir heilige Hügel\nwandeln auf dem uralten Kultweg zwischen St. Afra und Dom\nschauen hinter die Fassaden der Kirchen und\nerfahren die vergessene Bedeutung archaischer\, weiblicher Symbole und Flurnamen.\n\nUnd natürlich treffen wir viele alte Göttinnen\, die in Augsburg noch – teilweise – im Verborgenen schlummern. \nLeitung: Uta Börger\nDer Stadtrundgang ist Ergebnis ihrer Forschungsarbeit im Rahmen ihrer Ausbildung „Matriarchale Landschaftsmythologie“. \nTreffpunkt: an den Stufen\, am Platz vor der Basilika St. Ulrich und Afra\nNur für Frauen\nEnergieausgleich: 55 Euro\nAnmeldung\nTeilnahmebedingungen\n \nBitte wetterfeste Kleidung mitbringen. \nBei Teilnahme an dieser Veranstaltung sollten die Teilnehmerinnen offen sein für Kirchen- und Patriarchatskritik. \n  \n 
URL:https://termine.lieslotte.de/event/stadtspaziergang-fuer-frauen-auf-den-spuren-der-goettin-3/2026-03-29/
LOCATION:St. Afra Augsburg\, Augsburg\, Germany
CATEGORIES:Vortrag
ATTACH;FMTTYPE=image/jpeg:https://termine.lieslotte.de/wp-content/uploads/2025/01/Einfuehrung_ins_Matriarchat_Uta_Boerger-3_.jpg
END:VEVENT
END:VCALENDAR